Workbook

Sheet Kosten der Verfahren
A1: Vorgaben für die Berechnung
D2: Berechnungsmöglichkeiten
D3: Die orangenen Zellen werden einkopiert. Arbeitsstundenentlohnung unten auf der Seite eingeben. Fix-und Variable Maschinenkosten werden aus den Tabellenblättern Kosten Schlepper und Kosten Geräte einkopiert. In den Matrixen der Geräte können die Kosten für das einzelne Verfahren individuell berechnet werden.
A4: Vorgaben für die Berechnung | B4: Felder in Matrixen werden automatisch aktualisiert
A6: Arbeitskosten Fachkraft | B6: 25
A7: Arbeitsstunde Aushilfskraft | B7: 14.2
A8: Arbeitslohn Schlepperfahrer | B8: 20
D9: Grüne Zellen: Eingabe der eigenen Arbeitszeit
D10: Blaue Zellen: Aus Maschinenkosten einkopiert

Sheet Verfahren 1
A1: Rodung Rebanlage
A2: Maßnahme | B2: Verfahren 1
A3: Hierbei werden zunächst alle Arbeiten mit der Hand erledigt. Vorteil dieses Verfahrens ist, daß der Winzer nicht auf fremde Hilfe und Geräte angewiesen ist und sehr frei terminieren kann. Dieses Verfahren dürfte aber nur noch in kleinen Betrieben mit kleinen Flächen durchgeführt werden. Hier ist die Arbeitskraft nicht der begrenzende Faktor. Das Rigolen mit der eigenen Technik stellt bei den heute hohen Standarts einen gewaltigen Nachteil dar, da hier Leistung des Schleppers und Arbeit des alten (Rigol-) Pfuges nicht mehr den Anforderungen des modernen Weinbaus entsprechen. | D3: #VALUE! | E3: #VALUE! | F3: #VALUE! | G3: #VALUE! | H3: #VALUE! | I3: #VALUE! | J3: #VALUE! | K3: #VALUE! | L3: #VALUE! | M3: #VALUE!
A4: Anlage: 1,60m x 1,20m ,Betonanker, Holzpfähle
A5: Verfahren 1 Handarbeitsverfahren | B5: Arbeitszeit eigen Akh/ha | C5: Arbeitszeit fremd Akh/ha | D5: Lohnkosten eigen €/ha | E5: Lohnkosten fremd €/ha | F5: Maschinenkosten eigen €/ha | G5: Maschinenkosten fremd €/ha | H5: Sonst. €/ha
E6: kosten
E7: fremd
A8: Ausschneiden der Stockkrone von Hand (Handschere) | B8: 20 | D8: =B8*'Kosten der Verfahren'!B6 -> 500
A9: Ausheben des Schnittholzes | B9: 40 | D9: =B9*'Kosten der Verfahren'!B6 -> 1000
A10: Mulchen des Holzes | B10: 2 | D10: ='Kosten der Verfahren'!B6*'Verfahren 1'!B10 -> 50 | F10: =B10+('Kosten Schlepper'!E26+'Kosten Bodenpflegegerät'!E19) -> 91.96875
A11: Haken entfernen | B11: 6 | D11: ='Kosten der Verfahren'!B8*'Verfahren 1'!B11 -> 120
A12: Drähte einzeln mit Hand entfernen | B12: 35 | D12: ='Kosten der Verfahren'!B8*'Verfahren 1'!B12 -> 700
A13: Pfähle mit Hydraulik ziehen (2 Personen) | B13: 10 | D13: =('Kosten der Verfahren'!B6*'Verfahren 1'!B13)/2+('Kosten der Verfahren'!B8*'Verfahren 1'!B13/2) -> 225 | F13: =B13*('Kosten Schlepper'!E26+'Kosten Rodezange'!E19) -> 699.45
A14: Pfähle abfahren (2 Personen) | B14: 6 | D14: =('Kosten der Verfahren'!B6*'Verfahren 1'!B14)/2+('Kosten der Verfahren'!B8*'Verfahren 1'!B14/2) -> 135 | F14: =(B14/2)*('Kosten Schlepper'!E26+'Kosten 3 Seitenkipper'!E19) -> 212.31
A15: Endbefestigung (Beton)entfernen (2 Personen) | B15: 18 | D15: =('Kosten der Verfahren'!B6*'Verfahren 1'!B15)/2+('Kosten der Verfahren'!B8*'Verfahren 1'!B15/2) -> 405 | F15: =(B15/2)*('Kosten Schlepper'!E26+'Kosten Rodezange'!E19) -> 629.505
A16: Rebstöcke mit Geißfuß roden (2 Personen) | B16: 32 | D16: =('Kosten der Verfahren'!B6*'Verfahren 1'!B16)/2+('Kosten der Verfahren'!B8*'Verfahren 1'!B16/2) -> 720 | F16: =(B16/2)*('Kosten Schlepper'!E26+'Kosten Rodezange'!E19) -> 1119.12
A17: Rebstöcke abfahren (2 Personen) | B17: 20 | D17: =('Kosten der Verfahren'!B7*'Verfahren 1'!B17)/2+('Kosten der Verfahren'!B8*'Verfahren 1'!B17/2) -> 342 | F17: =(B17/2)*('Kosten Schlepper'!E26+'Kosten 3 Seitenkipper'!E19) -> 707.7
A18: Rigolen (Pflug/Tiefengrubber) | B18: 10 | D18: =B18*'Kosten der Verfahren'!B6 -> 250 | F18: =B18*('Kosten Schlepper'!E26+'Kosten Rigolpflug Tiefengrubber'!E19) -> 835.625
A19: Nacharbeiten rigolen | B19: 20 | D19: ='Kosten der Verfahren'!B8*'Verfahren 1'!B19 -> 400 | F19: =B19*('Kosten Schlepper'!E26+'Kosten Bodenpflegegerät'!E19) -> 1799.375
A20: Entsorgung Holzpfähle/Betonpfähle | B20: 5 | D20: ='Kosten der Verfahren'!B8*'Verfahren 1'!B20 -> 100 | F20: =(B20)*('Kosten Schlepper'!E26+'Kosten 3 Seitenkipper'!E19) -> 353.85 | H20: 1200
A22: Summe | B22: =SUM(B8:B21) -> 224 | D22: =SUM(D8:D21) -> 4947 | F22: =SUM(F8:F21) -> 6448.9037
A23: Gesamtsumme des Verfahrens | H23: =D22+E22+F22+G22+H22 -> 11395.904

Sheet Verfahren 2
A1: Rodung Rebanlage
A2: Maßnahme | B2: Verfahren 2 | C2: Akkuschere Stockroder
A3: Dieses Verfahren setzt die häufig in den Betrieben vorhandene Technik zusammen mit gemieteten Geräten ein. Zunächst wird mit der Akkuschere die Stockkrone geschnitten, dann das einjährige Holz mit der Handschere ausgehoben, Drähte und Pfähle entfernt, die Endverankerungen beseitigt. Danach wird in Lohnarbeit der Rebstock samt Wurzelstange gerodet. Rigolen und Nacharbeiten schließen sich an. Vorteil dieses Verfahrens ist der hohe phytosanitäre Standard durch das komplette Entfernen der Stöcke und Hauptwurzeln. Ebenfalls wird die Arbeitszeitbelastung wesentlich vermindert. | D3: #VALUE! | E3: #VALUE! | F3: #VALUE! | G3: #VALUE! | H3: #VALUE! | I3: #VALUE! | J3: #VALUE! | K3: #VALUE! | L3: #VALUE! | M3: #VALUE!
A4: Verfahrensschritt | B4: Arbeitszeit eigen | C4: Arbeitszeit fremd | D4: Lohnkosten eigen | E4: Lohnkosten fremd | F4: Maschinenkosten eigen | G4: Maschinenkosten fremd | H4: Sonst.
E5: kosten
E6: fremd
A7: Ausschneiden der Stockkrone von Hand (Akkuschere) | B7: 10 | D7: =B7*'Kosten der Verfahren'!B6 -> 250 | F7: =B7*'Kosten Akkuschere'!E19 -> 13.875
A8: Ausheben des Schnittholzes | B8: 35 | D8: =B8*'Kosten der Verfahren'!B7 -> 497
A9: Mulchen des Holzes | B9: ='Verfahren 1'!B10 -> 2 | D9: =B9*'Kosten der Verfahren'!B8 -> 40 | F9: =B9*('Kosten Schlepper'!E26+'Kosten Bodenpflegegerät'!E19) -> 179.9375
A10: Haken entfernen | B10: ='Verfahren 1'!B11 -> 6 | D10: ='Kosten der Verfahren'!B7*'Verfahren 2'!B10 -> 85.2
A11: Drähte mit Drahthaspel aufwickeln | B11: 15 | D11: ='Kosten der Verfahren'!B7*'Verfahren 2'!B11 -> 213 | F11: =B11*('Kosten Schlepper'!E26+'Kosten Drahthaspel'!E19) -> 1102.8
A12: Pfähle mit Hydraulik ziehen (2 Personen) | B12: 10 | D12: =('Kosten der Verfahren'!B6*'Verfahren 2'!B12)/2+('Kosten der Verfahren'!B7*'Verfahren 1'!B12/2) -> 373.5 | F12: =B12*('Kosten Schlepper'!E26+'Kosten Rodezange'!E19) -> 699.45
A13: Pfähle abfahren (2Personen) | B13: 6 | D13: =('Kosten der Verfahren'!B6*'Verfahren 2'!B13)/2+('Kosten der Verfahren'!B7*'Verfahren 1'!B13/2) -> 146 | F13: =(B13/2)*('Kosten Schlepper'!E26+'Kosten 3 Seitenkipper'!E19) -> 212.31
A14: Endbefestigung (Beton) entfernen (2 Personen) | B14: 18 | D14: =('Kosten der Verfahren'!B6*'Verfahren 2'!B14)/2+('Kosten der Verfahren'!B7*'Verfahren 1'!B14/2) -> 267.6 | F14: =(B14/2)*('Kosten Schlepper'!E26+'Kosten Rodezange'!E19) -> 629.505
A15: Rebstöcke mit Stockroder entfernen | C15: 2 | E15: =C15*25 -> 50 | G15: 420
A16: Rebstöcke abfahren (2 Personen) | B16: 20 | D16: =('Kosten der Verfahren'!B7*'Verfahren 2'!B16)/2+('Kosten der Verfahren'!B8*'Verfahren 2'!B16/2) -> 342 | F16: =(B16/2)*('Kosten Schlepper'!E26+'Kosten 3 Seitenkipper'!E19) -> 707.7
A17: Rigolen | C17: 4 | E17: =C17*25 -> 100 | G17: 875
A18: Nacharbeiten rigolen | B18: 4 | D18: ='Kosten der Verfahren'!B6*'Verfahren 2'!B18 -> 100 | F18: =B18*('Kosten Schlepper'!E26+'Kosten Bodenpflegegerät'!E19) -> 359.875
A19: Entsorgung Holzpfähle/Betonpfähle | B19: 5 | D19: ='Kosten der Verfahren'!B6*'Verfahren 2'!B19 -> 125 | F19: =(B19)*('Kosten Schlepper'!E26+'Kosten 3 Seitenkipper'!E19) -> 353.85 | H19: 1200
A21: Summe | B21: =SUM(B7:B20) -> 131 | D21: =SUM(D7:D20) -> 2439.3 | E21: =SUM(E7:E20) -> 150 | F21: =SUM(F7:F20) -> 4259.3025 | G21: =SUM(G7:G20) -> 1295 | H21: =SUM(H7:H20) -> 1200
A22: Gesamtsumme des Verfahrens | H22: =D21+E21+F21+G21+H21 -> 9343.6025

Sheet Verfahren 3
A1: Rodung Rebanlage
A2: Maßnahme | B2: Verfahren 3 | C2: Rebenvorschneidemaschine, Stockroder
A3: Bei diesem Verfahren wird das komplette ein- und zweijährige Holz mit der Rebenvorschneidemaschine ausgeschnitten. Die Nacharbeit mit Handschere oder Akkuschere schneidet nur noch die Drähte zum Ablegen frei. | D3: #VALUE! | E3: #VALUE! | F3: #VALUE! | G3: #VALUE! | H3: #VALUE! | I3: #VALUE! | J3: #VALUE! | K3: #VALUE! | L3: #VALUE! | M3: #VALUE! | N3: #VALUE!
A4: Verfahrensschritt | B4: Arbeitszeit eigen | C4: Arbeitszeit fremd | D4: Lohnkosten eigen | E4: Lohnkosten fremd | F4: Maschinenkosten eigen | G4: Maschinenkosten fremd | H4: Sonst.
E5: kosten
E6: fremd
A7: Vorschneidemaschine | C7: 4 | E7: =C7*'Kosten der Verfahren'!B6 -> 100 | G7: =C7*85 -> 340
A8: Nachschnitt mit Akkuschere | B8: 10 | D8: =B8*'Kosten der Verfahren'!B7 -> 142 | F8: =B8*'Kosten Akkuschere'!E19 -> 13.875
A9: Mulchen des Holzes | B9: ='Verfahren 1'!B10 -> 2 | D9: =B9*'Kosten der Verfahren'!B8 -> 40 | F9: =B9*('Kosten Schlepper'!E26+'Kosten Bodenpflegegerät'!E19) -> 179.9375
A10: Haken entfernen | B10: ='Verfahren 1'!B11 -> 6 | D10: ='Kosten der Verfahren'!B7*'Verfahren 3'!B10 -> 85.2
A11: Drähte mit Drahthaspel aufwickeln | B11: ='Verfahren 2'!B11 -> 15 | D11: ='Kosten der Verfahren'!B6*'Verfahren 3'!B11 -> 375 | F11: =B11*('Kosten Schlepper'!E26+'Kosten Drahthaspel'!E19) -> 1102.8
A12: Pfähle mit Hydraulik ziehen (2 Personen) | B12: ='Verfahren 2'!B12 -> 10 | D12: =('Kosten der Verfahren'!B6*'Verfahren 3'!B12)/2+('Kosten der Verfahren'!B7*'Verfahren 1'!B12/2) -> 373.5 | F12: =B12*('Kosten Schlepper'!E26+'Kosten Rodezange'!E19) -> 699.45
A13: Pfähle abfahren (2 Personen) | B13: ='Verfahren 2'!B13 -> 6 | D13: =('Kosten der Verfahren'!B6*'Verfahren 3'!B13)/2+('Kosten der Verfahren'!B7*'Verfahren 1'!B13/2) -> 146 | F13: =(B13/2)*('Kosten Schlepper'!E26+'Kosten 3 Seitenkipper'!E19) -> 212.31
A14: Endbefestigung (Beton) entfernen (2 Personen) | B14: ='Verfahren 2'!B14 -> 18 | D14: =('Kosten der Verfahren'!B6*'Verfahren 3'!B14)/2+('Kosten der Verfahren'!B7*'Verfahren 1'!B14/2) -> 267.6 | F14: =(B14/2)*('Kosten Schlepper'!E26+'Kosten Rodezange'!E19) -> 629.505
A15: Rebstöcke mit Stockroder entfernen | C15: 2 | E15: =C15*25 -> 50 | G15: 420
A16: Rebstöcke abfahren (2 Personen) | B16: ='Verfahren 2'!B16 -> 20 | D16: =('Kosten der Verfahren'!B7*'Verfahren 3'!B16)/2+('Kosten der Verfahren'!B8*'Verfahren 3'!B16/2) -> 342 | F16: =(B16/2)*('Kosten Schlepper'!E26+'Kosten 3 Seitenkipper'!E19) -> 707.7
A17: Rigolen | C17: ='Verfahren 2'!C17 -> 4 | E17: =C17*25 -> 100 | G17: 875
A18: Nacharbeiten rigolen | B18: ='Verfahren 2'!B18 -> 4 | D18: ='Kosten der Verfahren'!B6*'Verfahren 3'!B18 -> 100 | F18: =B18*('Kosten Schlepper'!E26+'Kosten Bodenpflegegerät'!E19) -> 359.875
A19: Entsorgung Holzpfähle/Betonpfähle | B19: 5 | D19: ='Kosten der Verfahren'!B6*'Verfahren 3'!B19 -> 125 | F19: =(B19)*('Kosten Schlepper'!E26+'Kosten 3 Seitenkipper'!E19) -> 353.85 | H19: 1200
A21: Summe | B21: =SUM(B7:B20) -> 96 | D21: =SUM(D7:D20) -> 1996.3 | E21: =SUM(E7:E20) -> 250 | F21: =SUM(F7:F20) -> 4259.3025 | G21: =SUM(G7:G20) -> 1635 | H21: =SUM(H7:H20) -> 1200
A22: Gesamtsumme des Verfahrens | H22: =D21+E21+F21+G21+H21 -> 9340.6025

Sheet Verfahren 4
A1: Rodung Rebanlage
A2: Maßnahme | B2: Verfahren 4 | C2: Drahtableger, Stockroder mit Hächsler
A3: Ein völlig neuer Ansatz bei der Rebrodung bringt das Verfahren 4. Hierbei werden zunächst die beiden Stockbefestigungsdrähte (Anbindedraht und Überbiegedraht) freigemacht. Danach legt man mit den Drahtablegerrollen die Heftdrähte auf den Boden. Diese werden mit der Drahthaspel entfernt. Nach dem Herausziehen der Enden und der Pfähle wird dann mit einem Stockroder, welcher die Stöcke kleinhächselt, gerodet. Das Absammeln des Altholzes entfällt. | D3: #VALUE! | E3: #VALUE! | F3: #VALUE! | G3: #VALUE! | H3: #VALUE! | I3: #VALUE!
A4: Verfahrensschritt | B4: Arbeitszeit eigen | C4: Arbeitszeit fremd | D4: Lohnkosten eigen | E4: Lohnkosten fremd | F4: Maschinenkosten eigen | G4: Maschinenkosten fremd | H4: Sonst.
E5: kosten
E6: fremd
A7: Freischneiden Überbiegedraht und Anbindedraht | C7: 4 | E7: =C7*'Kosten der Verfahren'!B6 -> 100 | G7: 120
A8: Ablegen der Drähte maschinell | B8: 8 | D8: =B8*'Kosten der Verfahren'!B7 -> 113.6 | F8: =B8*('Kosten Schlepper'!E26+'Kosten Drahthaspel'!E19) -> 588.16
A9: Drähte mit Drahthaspel aufwickeln | B9: 15 | D9: ='Kosten der Verfahren'!B6*'Verfahren 4'!B9 -> 375 | F9: =B9*('Kosten Schlepper'!E26+'Kosten Drahthaspel'!E19) -> 1102.8
A10: Pfähle mit Hydraulik ziehen (2 Personen) | B10: 10 | D10: =('Kosten der Verfahren'!B6*'Verfahren 4'!B10/2)+('Kosten der Verfahren'!B7*'Verfahren 4'!B10/2) -> 196 | F10: =B10*('Kosten Schlepper'!E26+'Kosten Rodezange'!E19) -> 699.45
A11: Pfähle abfahren (2 Personen) | B11: ='Verfahren 2'!B11 -> 15 | D11: =('Kosten der Verfahren'!B6*'Verfahren 4'!B11)/2+('Kosten der Verfahren'!B7*'Verfahren 4'!B11/2) -> 294 | F11: =(B11/2)*('Kosten Schlepper'!E26+'Kosten 3 Seitenkipper'!E19) -> 530.775
A12: Endbefestigung (Beton) entfernen (2 Personen) | B12: ='Verfahren 2'!B12 -> 10 | D12: =('Kosten der Verfahren'!B6*'Verfahren 4'!B12)/2+('Kosten der Verfahren'!B7*'Verfahren 4'!B12/2) -> 196 | F12: =(B12/2)*('Kosten Schlepper'!E26+'Kosten Rodezange'!E19) -> 349.725
A13: Rebstöcke mit Stockroder+Hächsler entfernen | C13: 2 | E13: =C13*'Kosten der Verfahren'!B6 -> 50 | G13: 730
A14: Rigolen | C14: 4 | E14: =C14*'Kosten der Verfahren'!B6 -> 100 | G14: 875
A15: Nacharbeiten rigolen | B15: 4 | D15: ='Kosten der Verfahren'!B6*'Verfahren 4'!B15 -> 100 | F15: =(B15/2)*('Kosten Schlepper'!E26+'Kosten Bodenpflegegerät'!E19) -> 179.9375
A16: Entsorgung Holzpfähle/Betonpfähle | B16: 5 | D16: ='Kosten der Verfahren'!B6*'Verfahren 4'!B16 -> 125 | F16: =(B16)*('Kosten Schlepper'!E26+'Kosten 3 Seitenkipper'!E19) -> 353.85 | H16: 1200
A18: Summe | B18: =SUM(B7:B17) -> 67 | D18: =SUM(D7:D17) -> 1399.6 | E18: =SUM(E7:E17) -> 250 | F18: =SUM(F7:F17) -> 3804.6975 | G18: =SUM(G7:G17) -> 1725 | H18: =SUM(H7:H17) -> 1200
A19: Gesamtsumme des Verfahrens | H19: =D18+E18+F18+G18+H18 -> 8379.2975

Sheet Kosten Schlepper
B1: Berechnung | C1: Kosten pro Jahr | D1: Kosten pro Stunde | E1: Fixe Kosten pro Stunde bei ___ Arbeitsstunden pro Jahr
A2: Fixe Kosten
A3: Anschaffungswert | B3: 135000 | C3: =(B3-C4)/B8 -> 10125
A4: Restwert | B4: 0.25 | C4: =B3*B4 -> 33750
A5: Zinssatz | B5: 0.05 | C5: =B3*B5 -> 6750
A6: Unterbringung | B6: 0.01 | C6: =B3*B6 -> 1350
A7: Versicherung | B7: 0.005 | C7: =B3*B7 -> 675
A8: Nutzungsdauer in Jahren | B8: 10
A9: Summe Fixe Kosten | C9: =SUM(C5:C8)+C3 -> 18900 | E9: =C9/(B17+B19*B20) -> 37.8
A11: Variable Kosten | B11: pro Betriebsstunde
A12: Treibstoff | D12: 13
A13: Öl | D13: 0.4
A14: Reparatur | D14: 8.45
A16: Einsatzbedfingungen
A17: Arbeitsstunden pro Jahr | B17: 500
A18: oder | B18: Bitte nur Arbeitsstunden pro Jahr oder Arbeitsstunden pro Hektar und Fläche eingeben!
A19: Arbeitsstunden pro Hektar | B19: 0
A20: Einsatzfläche | B20: 0
A21: --> Arbeitsstunden pro Jahr | B21: 0 | C21: =B17+B19*B20 -> 500
A23: Summe Variable Kosten pro Stunde | D23: =SUM(D12:D15) -> 21.85
A25: Arbeitskosten des Schleppers pro Stunde ohne Fahrer = Fixkosten pro Stunde zuzüglich Variabler Kosten pro Stunde:
E26: =E9+D23 -> 59.65

Sheet Kosten Akkuschere
A1: #VALUE! | B1: Berechnung | C1: Kosten pro Jahr | D1: Kosten pro Stunde | E1: Fixe Kosten pro Stunde für eine Arbeitsstunde pro Jahr
A2: Fixe Kosten
A3: Anschaffungswert | B3: 1500 | C3: =(B3-C7)/B8 -> 225
A4: Zinssatz | B4: 0.05 | C4: =B3*B4 -> 75
A5: Unterbringung | B5: 0.01 | C5: =B3*B5 -> 15
A6: Versicherung 0,5 | B6: 0.005 | C6: =B6*B3 -> 7.5
A7: Restwert | B7: 0.1 | C7: =B3*B7 -> 150
A8: Nutzungsdauer in Jahren | B8: 6
A9: Einsatzstunden pro Jahr | B9: 600
A10: Summe Fixe Kosten | C10: =C3+C4+C5+C6 -> 322.5 | E10: =C10/B9 -> 0.5375
A12: Variable Kosten
A13: Strom/Akku | D13: 0.35
A14: Reparatur/Verschleißteile | D14: 0.5
A16: Summe Variable Kosten pro Stunde | D16: =D14+D13 -> 0.85
A18: Arbeitskosten des Bodenpflegegerätesgerätes pro Stunde ohne Fahrer = Fixkosten pro Stunde zuzüglich Variabler Kosten pro Stunde:
E19: =D16+E10 -> 1.3875

Sheet Kosten Rigolpflug Tiefengrubber
A1: #VALUE! | B1: Berechnung | C1: Kosten pro Jahr | D1: Kosten pro Stunde | E1: Fixe Kosten pro Stunde für eine Arbeitsstunde pro Jahr
A2: Fixe Kosten
A3: Anschaffungswert | B3: 15000 | C3: =(B3-C7)/B8 -> 450
A4: Zinssatz | B4: 0.05 | C4: =B3*B4 -> 750
A5: Unterbringung | B5: 0.01 | C5: =B3*B5 -> 150
A6: Versicherung 0,5 | B6: 0.005 | C6: =B6*B3 -> 75
A7: Restwert | B7: 0.1 | C7: =B3*B7 -> 1500
A8: Nutzungsdauer in Jahren | B8: 30
A9: Einsatzstunden pro Jahr | B9: 80
A10: Summe Fixe Kosten | C10: =C3+C4+C5+C6 -> 1425 | E10: =C10/B9 -> 17.8125
A12: Variable Kosten
A13: Schmierstoffe/Verschleißteile | D13: 4
A14: Reparatur | D14: 2.1
A16: Summe Variable Kosten pro Stunde | D16: =D14+D13 -> 6.1
A18: Arbeitskosten des Bodenpflegegerätesgerätes pro Stunde ohne Fahrer = Fixkosten pro Stunde zuzüglich Variabler Kosten pro Stunde:
E19: =D16+E10 -> 23.9125

Sheet Kosten Bodenpflegegerät
A1: #VALUE! | B1: Berechnung | C1: Kosten pro Jahr | D1: Kosten pro Stunde | E1: Fixe Kosten pro Stunde für eine Arbeitsstunde pro Jahr
A2: Fixe Kosten
A3: Anschaffungswert | B3: 12500 | C3: =(B3-C7)/B8 -> 1125
A4: Zinssatz | B4: 0.05 | C4: =B3*B4 -> 625
A5: Unterbringung | B5: 0.01 | C5: =B3*B5 -> 125
A6: Versicherung 0,5 | B6: 0.005 | C6: =B6*B3 -> 62.5
A7: Restwert | B7: 0.1 | C7: =B3*B7 -> 1250
A8: Nutzungsdauer in Jahren | B8: 10
A9: Einsatzstunden pro Jahr | B9: 80
A10: Summe Fixe Kosten | C10: =C3+C4+C5+C6 -> 1937.5 | E10: =C10/B9 -> 24.21875
A12: Variable Kosten
A13: Schmierstoffe/Verschleißteile | D13: 4
A14: Reparatur | D14: 2.1
A16: Summe Variable Kosten pro Stunde | D16: =D14+D13 -> 6.1
A18: Arbeitskosten des Bodenpflegegerätesgerätes pro Stunde ohne Fahrer = Fixkosten pro Stunde zuzüglich Variabler Kosten pro Stunde:
E19: =D16+E10 -> 30.31875

Sheet Kosten Rodezange
A1: #VALUE! | B1: Berechnung | C1: Kosten pro Jahr | D1: Kosten pro Stunde | E1: Fixe Kosten pro Stunde für eine Arbeitsstunde pro Jahr
A2: Fixe Kosten
A3: Anschaffungswert | B3: 1850 | C3: =(B3-C7)/B8 -> 83.25
A4: Zinssatz | B4: 0.05 | C4: =B3*B4 -> 92.5
A5: Unterbringung | B5: 0.01 | C5: =B3*B5 -> 18.5
A6: Versicherung 0,5 | B6: 0.005 | C6: =B6*B3 -> 9.25
A7: Restwert | B7: 0.1 | C7: =B3*B7 -> 185
A8: Nutzungsdauer in Jahren | B8: 20
A9: Einsatzstunden pro Jahr | B9: 20
A10: Summe Fixe Kosten | C10: =C3+C4+C5+C6 -> 203.5 | E10: =C10/B9 -> 10.175
A12: Variable Kosten
A13: Schmierstoffe/Verschleißteile | D13: 0.02
A14: Reparatur | D14: 0.1
A16: Summe Variable Kosten pro Stunde | D16: =D14+D13 -> 0.12
A18: Arbeitskosten des Bodenpflegegerätesgerätes pro Stunde ohne Fahrer = Fixkosten pro Stunde zuzüglich Variabler Kosten pro Stunde:
E19: =D16+E10 -> 10.295

Sheet Kosten 3 Seitenkipper
A1: #VALUE! | B1: Berechnung | C1: Kosten pro Jahr | D1: Kosten pro Stunde | E1: Fixe Kosten pro Stunde für eine Arbeitsstunde pro Jahr
A2: Fixe Kosten
A3: Anschaffungswert | B3: 20000 | C3: =(B3-C7)/B8 -> 900
A4: Zinssatz | B4: 0.05 | C4: =B3*B4 -> 1000
A5: Unterbringung | B5: 0.01 | C5: =B3*B5 -> 200
A6: Versicherung 0,5 | B6: 0.005 | C6: =B6*B3 -> 100
A7: Restwert | B7: 0.1 | C7: =B3*B7 -> 2000
A8: Nutzungsdauer in Jahren | B8: 20
A9: Einsatzstunden pro Jahr | B9: 200
A10: Summe Fixe Kosten | C10: =C3+C4+C5+C6 -> 2200 | E10: =C10/B9 -> 11
A12: Variable Kosten
A13: Schmierstoffe/Verschleißteile | D13: 0.02
A14: Reparatur | D14: 0.1
A16: Summe Variable Kosten pro Stunde | D16: =D14+D13 -> 0.12
A18: Arbeitskosten des Bodenpflegegerätesgerätes pro Stunde ohne Fahrer = Fixkosten pro Stunde zuzüglich Variabler Kosten pro Stunde:
E19: =D16+E10 -> 11.12

Sheet Kosten Drahthaspel
A1: #VALUE! | B1: Berechnung | C1: Kosten pro Jahr | D1: Kosten pro Stunde | E1: Fixe Kosten pro Stunde für eine Arbeitsstunde pro Jahr
A2: Fixe Kosten
A3: Anschaffungswert | B3: 2500 | C3: =(B3-C7)/B8 -> 112.5
A4: Zinssatz | B4: 0.05 | C4: =B3*B4 -> 125
A5: Unterbringung | B5: 0.01 | C5: =B3*B5 -> 25
A6: Versicherung 0,5 | B6: 0.005 | C6: =B6*B3 -> 12.5
A7: Restwert | B7: 0.1 | C7: =B3*B7 -> 250
A8: Nutzungsdauer in Jahren | B8: 20
A9: Einsatzstunden pro Jahr | B9: 20
A10: Summe Fixe Kosten | C10: =C3+C4+C5+C6 -> 275 | E10: =C10/B9 -> 13.75
A12: Variable Kosten
A13: Schmierstoffe/Verschleißteile | D13: 0.02
A14: Reparatur | D14: 0.1
A16: Summe Variable Kosten pro Stunde | D16: =D14+D13 -> 0.12
A18: Arbeitskosten des Bodenpflegegerätesgerätes pro Stunde ohne Fahrer = Fixkosten pro Stunde zuzüglich Variabler Kosten pro Stunde:
E19: =D16+E10 -> 13.87

Sheet Kosten Lohnunternehmer
B1: Berechnung | C1: Kosten pro Jahr | D1: Kosten pro Stunde | E1: Fixe Kosten pro Stunde bei 200 Arbeitsstunden pro Jahr | F1: Fixe Kosten pro Stunde bei 300 Arbeitsstunden pro Jahr
A2: Fixe Kosten
A3: Anschaffungswert | B3: 350000 | C3: =B3/10*9/10 -> 31500
A4: Zinssatz | B4: 0.05 | C4: =B3*B4 -> 17500
A5: Unterbringung | B5: 0.01 | C5: =B3*B5 -> 3500
A6: Versicherung 0,5 | B6: 0.005 | C6: =B3*B6 -> 1750
A7: Restwert | B7: 0.1
A8: Nutzungsdauer | B8: 10 Jahre
A9: Summe Fixe Kosten | C9: =SUM(C3:C8) -> 54250 | E9: =C9/200 -> 271.25 | F9: =C9/300 -> 180.83333
A11: Variable Kosten
A12: Treibstoff | D12: 42
A13: Öl | D13: 1
A14: Reparatur | D14: 7.8
A16: Summe Variable Kosten pro Stunde | D16: =SUM(D12:D15) -> 50.8
A18: Arbeitskosten des Traubenerntegrätes pro Stunde ohne Fahrer = Fixkosten pro Stunde zuzüglich Variabler Kosten pro Stunde:
E19: =E9+D16 -> 322.05 | F19: =F9+E16 -> 180.83333

Sheet Kosten gezogen
B1: Berechnung | C1: Kosten pro Jahr | D1: Kosten pro Stunde | E1: Fixe Kosten pro Stunde bei 200 Arbeitsstunden pro Jahr
A2: Fixe Kosten
A3: Anschaffungswert | B3: 180000 | C3: =B3/10*9/10 -> 16200
A4: Zinssatz | B4: 0.05 | C4: =B3*B4 -> 9000
A5: Unterbringung | B5: 0.01 | C5: =B3*B5 -> 1800
A6: Versicherung 0,5 | B6: 0.005 | C6: =B3*B6 -> 900
A7: Restwert | B7: 0.1
A8: Nutzungsdauer | B8: 10 Jahre
A9: Summe Fixe Kosten | C9: =SUM(C3:C8) -> 27900 | E9: =C9/200 -> 139.5
A11: Variable Kosten
A12: Treibstoff | D12: 0
A13: Öl | D13: 1
A14: Reparatur | D14: 10.5
A16: Summe Variable Kosten pro Stunde | D16: =SUM(D12:D15) -> 11.5
A18: Arbeitskosten des Traubenerntegrätes pro Stunde ohne Fahrer = Fixkosten pro Stunde zuzüglich Variabler Kosten pro Stunde:
E19: =E9+D16 -> 151
