Workbook

Sheet Besipielberechnung
A1: Systemberechnung für das Ausbessern der Pfahlanlage:
A2: Standardspalieranlage Berechnungsbeispiel für einen Hektar (Standraum 2,00 m *1,20 m) | B2: Annahmen für Berechnungsgrundlage | D2: Kosten pro Hektar
A3: Annahmen für eine 25 jährige Anlage | B3: Anzahl | C3: Einzelpreis
A4: Ankerreparatur | B4: 2 | C4: =Anker!C2 -> 4.5 | D4: =Anker!C2*B4 -> 9
A5: Pfahlreparatur | B5: 10 | C5: =Reihenpfahl!C2 -> 10 | D5: =Reihenpfahl!C2*Besipielberechnung!B5 -> 100
A6: Endpfahlraperatur | B6: 2 | C6: =Endpfahl!C2 -> 17 | D6: =Endpfahl!C2*Besipielberechnung!B6 -> 34
A7: Nebenprodukte | B7: 2 | C7: =Anker!C3 -> 0.5 | D7: =Anker!C3*Besipielberechnung!B7 -> 1
B8: Arbeitszeit (Stunden pro ha)
A10: Arbeitszeit Fachkraft | B10: 1.5 | D10: =B14*B10 -> 37.5
A11: Arbeitszeit Aushilfskraft | B11: 1.5 | D11: =B15*B11 -> 21.315
A12: Arbeitszeit Fuhrpark | B12: 1.5 | D12: =B16*B12 -> 30
A14: =A23 -> Arbeitskosten Fachkraft | B14: =B23 -> 25
A15: =A24 -> Arbeitsstunde Aushilfskraft | B15: =B24 -> 14.21
A16: =A25 -> Arbeitskosten Fukrpark | B16: =B25 -> 20
A17: Durchschnittliche Kosten der Arbeitsstunde: | D17: =(D10+D11+D12)/(B10+B11+B12) -> 19.736667
A18: Summe der Kosten | D18: =D4+D5+D6+D7+D10+D11+D12 -> 232.815
A21: Vorgaben für die Berechnung
A23: Arbeitskosten Fachkraft | B23: 25
A24: Arbeitsstunde Aushilfskraft | B24: 14.21
A25: Arbeitskosten Fukrpark | B25: 20

Sheet Anker
A1: Aufwand und Kosten für das Ersetzen einer Verankerung | B1: Bemerkungen | C1: Kosten | D1: Benötigte Zeit in Minuten
A2: Anker | B2: Pfahlanker 1000/150/14 | C2: 4.5
A3: Enddraht | B3: Crapal 2,2 | C3: 0.5
A4: Entfernen Anker | B4: Pfahlanker | D4: 5
A5: Beschaffen Anker | D5: 1
A6: Neuen Anker eindrehen | B6: Pfahlanker 1000/150/14 | D6: 5
A7: Abspanndrähte anbringen | D7: 5
A8: Wege- und Rüstzeit | D8: 5
A9: Summe Arbeitszeit pro Anker | D9: =SUM(D4:D8) -> 21
A10: davon Fachkraft | D10: 4
A11: davon Aushilfskraft | D11: 17
A12: Maschinenzeit | D12: 2
A13: =A20 -> Arbeitskosten Fachkraft | B13: =B20 -> 25 | C13: =(B20/60)*D10 -> 1.6666667
A14: =A21 -> Arbeitsstunde Aushilfskraft | B14: =B21 -> 14.21 | C14: =(B21/60)*D11 -> 4.0261667
A15: Maschinenkosten/Fahrzeug | B15: =B22 -> 30 | C15: =(B22/60)*D12 -> 1
A16: Summe Kosten pro Anker | C16: =SUM(C2:C15) -> 11.692833
A18: Vorgaben für die Berechnung
A20: Arbeitskosten Fachkraft | B20: 25
A21: Arbeitsstunde Aushilfskraft | B21: 14.21
A22: Maschinenkosten/Fahrzeug | B22: 30
A24: Eigene Preise und Zeiten eingeben
A25: Vorgaben Arbeitskosten

Sheet Endpfahl
A1: Aufwand und Kosten für das Ersetzen eines Endpfahles | B1: Bemerkungen | C1: Kosten | D1: Benötigte Zeit in Minuten
A2: Endpfahl | B2: Eisenpfahl 2,75 m, 2,15mm Stärke | C2: 17
A3: Entfernen Pfahl | B3: inclusive Entsorgung | D3: 10
A4: Beschaffen Pfahl | D4: 1
A5: Drähte anbringen | D5: 5
A6: Wege- und Rüstzeit | D6: 3
A7: Summe Arbeitszeit pro Endpfahl | D7: =SUM(D3:D6) -> 19
A8: davon Fachkraft | D8: 4
A9: davon Aushilfskraft | D9: 19
A10: Maschinenzeit | D10: 2
A11: =A18 -> Arbeitskosten Fachkraft | B11: =B18 -> 25 | C11: =(B11/60)*D8 -> 1.6666667
A12: =A19 -> Arbeitsstunde Aushilfskraft | B12: =B19 -> 14.21 | C12: =(B12/60)*D9 -> 4.4998333
A13: Maschinenkosten/Fahrzeug | B13: =B20 -> 30 | C13: =(B13/60)*D10 -> 1
A14: Summe Kosten pro Endpfahl | C14: =SUM(C2:C13) -> 24.1665
A16: Vorgaben für die Berechnung
A18: Arbeitskosten Fachkraft | B18: 25
A19: Arbeitsstunde Aushilfskraft | B19: 14.21
A20: Maschinenkosten/Fahrzeug | B20: 30
A22: Eigene Preise und Zeiten eingeben
A23: Vorgaben Arbeitskosten

Sheet Reihenpfahl
A1: Aufwand und Kosten für das Ersetzen eines Reihenpfahls | B1: Bemerkungen | C1: Kosten | D1: Benötigte Zeit in Minuten
A2: Reihenpfahl | B2: Eisenpfahl 250 m, 1,5mm Stärke | C2: 10
A3: Entfernen Pfahl | B3: inclusive Entsorgung | D3: 5
A4: Beschaffen Pfahl | D4: 1
A5: Neuen Pfahl setzen | B5: Eisenpfahl 250 m, 1,5mm Stärke | D5: 5
A6: Drähte anbringen | D6: 2
A7: Wege- und Rüstzeit | D7: 3
A8: Summe Arbeitszeit pro Pfahl | D8: =SUM(D3:D7) -> 16
A9: davon Fachkraft | D9: 4
A10: davon Aushilfskraft | D10: 10
A11: Maschinenzeit | D11: 2
A12: =A19 -> Arbeitskosten Fachkraft | B12: =B19 -> 25 | C12: =(B12/60)*D9 -> 1.6666667
A13: =A20 -> Arbeitsstunde Aushilfskraft | B13: =B20 -> 14.21 | C13: =(B13/60)*D10 -> 2.3683333
A14: Maschinenkosten/Fahrzeug | B14: =B21 -> 30 | C14: =(B14/60)*D11 -> 1
A15: Summe Kosten pro Reihenpfahl | C15: =SUM(C2:C14) -> 15.035
A17: Vorgaben für die Berechnung
A19: Arbeitskosten Fachkraft | B19: 25
A20: Arbeitsstunde Aushilfskraft | B20: 14.21
A21: Maschinenkosten/Fahrzeug | B21: 30
A23: Eigene Preise und Zeiten eingeben
A24: Vorgaben Arbeitskosten

Sheet Rebstock Röhre
A1: Aufwand und Kosten für das Ersetzen eines Rebstockes mit einer Schutzröhre | B1: Bemerkungen | C1: Kosten | D1: Benötigte Zeit in Minuten
A2: Pfropfreben | C2: 2.3
A3: Pflanzpfahl | B3: Crapal Pflanzpfahl 1,50 m | C3: 0.75
A4: Pflanzröhre | B4: Tubex 60 cm | C4: 0.95
A5: Bindematerial | C5: 0.1
A6: Entfernen Altstock | D6: 3
A7: Beschaffen Reben | D7: 1
A8: Reben zuschneiden | D8: 0.2
A9: Pflanzloch erstellen | D9: 4
A10: Reben setzen | D10: 2
A11: Pflanzpfahl stellen | D11: 2
A12: Pflanzröhre stellen | D12: 0.5
A13: Wege- und Rüstzeit | D13: 5
A14: Pflege 2. und 3, Jahr | D14: 5
A15: Summe Arbeitszeit pro Stock | D15: =SUM(D6:D14) -> 22.7
A16: davon Fachkraft | D16: 5
A17: davon Aushilfskraft | D17: 25
A18: Maschinenzeit | D18: 6.7
A19: =A26 -> Arbeitskosten Fachkraft | B19: =B26 -> 25 | C19: =(B26/60)*D16 -> 2.0833333
A20: =A27 -> Arbeitsstunde Aushilfskraft | B20: =B27 -> 14.21 | C20: =(B27/60)*D17 -> 5.9208333
A21: Maschinenkosten/Fahrzeug | B21: =B28 -> 30 | C21: =(B28/60)*D18 -> 3.35
A22: Summe Kosten pro Stock | C22: =SUM(C2:C21) -> 15.454167
A24: Vorgaben für die Berechnung
A26: Arbeitskosten Fachkraft | B26: 25
A27: Arbeitsstunde Aushilfskraft | B27: 14.21
A28: Maschinenkosten/Fahrzeug | B28: 30
A30: Eigene Preise und Zeiten eingeben
A31: Vorgaben Arbeitskosten

Sheet Rebstock Hochstamm 
A1: Aufwand und Kosten für das Ersetzen eines Rebstockes mit einer Hochstammrebe | B1: Bemerkungen | C1: Kosten | D1: Benötigte Zeit in Minuten
A2: Hochstammrebe | C2: 3.8
A3: Pflanzpfahl | B3: Crapal Pflanzpfahl 1,50 m | C3: 0.75
A4: Bindematerial | C4: 0.1
A5: Entfernen Altstock | D5: 3
A6: Beschaffen Reben | D6: 1
A7: Reben zuschneiden | D7: 0.2
A8: Pflanzloch erstellen | D8: 4
A9: Reben setzen | D9: 2
A10: Pflanzpfahl stellen | D10: 2
A11: Anbinden Hochstamm | D11: 0.5
A12: Wege- und Rüstzeit | D12: 5
A13: Pflege 2. und 3, Jahr | D13: 5
A14: Summe Arbeitszeit pro Stock | D14: =SUM(D6:D13) -> 19.7
A15: davon Fachkraft | D15: 5
A16: davon Aushilfskraft | D16: 25
A17: Maschinenzeit | D17: 6.7
A18: =A25 -> Arbeitskosten Fachkraft | B18: =B25 -> 25 | C18: =(B25/60)*D15 -> 2.0833333
A19: =A26 -> Arbeitsstunde Aushilfskraft | B19: =B26 -> 14.21 | C19: =(B26/60)*D16 -> 5.9208333
A20: Maschinenkosten/Fahrzeug | B20: =B27 -> 30 | C20: =(B27/60)*D17 -> 3.35
A21: Summe Kosten pro Endpfahl | C21: =SUM(C2:C20) -> 16.004167
A23: Vorgaben für die Berechnung
A25: Arbeitskosten Fachkraft | B25: 25
A26: Arbeitsstunde Aushilfskraft | B26: 14.21
A27: Maschinenkosten/Fahrzeug | B27: 30
A29: Eigene Preise und Zeiten eingeben
A30: Vorgaben Arbeitskosten

Sheet Maschinenkosten
B1: Berechnung | C1: Kosten pro Jahr | D1: Kosten pro Stunde | E1: Kosten bei 500 Arbeitsstunden pro Jahr
A2: Fixe Kosten
A3: Anschaffungswert | B3: 120000 | C3: =B3/10*9/10 -> 10800
A4: Restwert | B4: 0.2 | C4: =B3*B4 -> 24000
A5: Zinssatz | B5: 0.05 | C5: =B3*B5 -> 6000
A6: Unterbringung | B6: 0.01 | C6: =B3*B6 -> 1200
A7: Versicherung 0,5 | B7: 0.005 | C7: =B3*B7 -> 600
A8: Nutzungsdauer in Jahren | B8: 10
A9: Summe Fixe Kosten | C9: =SUM(C5:C7)+C3 -> 18600 | E9: =C9/500 -> 37.2
A11: Variable Kosten
A12: Treibstoff | D12: 15
A13: Öl | D13: 0.4
A14: Reparatur | D14: 6.2
A16: Einsatzbedfingungen
A17: Arbeitsstunden pro Jahr | B17: 500
A18: oder | B18: Bitte nur Arbeitsstunden pro Jahr oder Arbeitsstunden pro Hektar und Fläche eingeben!
A19: Arbeitsstunden pro Hektar | B19: 0
A20: Einsatzfläche | B20: 0
A21: --> Arbeitsstunden pro Jahr | C21: =B17+B19*B20 -> 500
A23: Summe Variable Kosten pro Stunde | D23: =SUM(D12:D15) -> 21.6
A25: Arbeitskosten des Schleppers pro Stunde ohne Fahrer = Fixkosten pro Stunde zuzüglich Variabler Kosten pro Stunde:
E26: =E9+D23 -> 58.8
