Workbook

Sheet Kostenzusammenstellung
A1: Systemberechnung Bodenpflege | G1: Berechnungsmöglichkeiten
A2: Berechnungsbeispiel für die jährliche Bodenpflege für einen Hektar zuzüglich 2 x Scheiben in Kombination | B2: Annahmen für Berechnungsgrundlage | C2: Kosten pro Jahr | G2: Die orangenen Zellen werden einkopiert. Arbeitsstundenentlohnung unten auf der Seite eingeben. Fix-und Variable Maschinenkosten werden aus den Tabellenblättern Kosten Schlepper und Kosten Geräte einkopiert. In den Matrixen der Geräte können die Kosten für das einzelne Verfahren individuell berechnet werden.
A3: Kosten:
B4: Anlage dauerbegrünt
B5: Variabler Mulcher
A6: Arbeitskosten | B6: =B22 -> 20 | C6: =(B6*B7*B8)+(B6*B9*B10) -> 240
A7: Reine Bodenbearbeitung: Arbeitszeit pro ha für diese Maßnahme (Stunden) | B7: 2
A8: Anzahl dieser Bodenpflegemaßnahmen | B8: 3
A9: Kombination mit Unterstockbodenbbearbeitung: Arbeitszeit pro ha für diese Maßnahme (Stunden) | B9: 3
A10: Anzahl dieser Bodenpflegemaßnahmen | B10: 2
A11: Auslastung des Schleppers in h/Jahr | B11: ='Kosten Schlepper'!B9 -> 500 | C11: =('Kosten Schlepper'!E20*B10*B9)+('Kosten Schlepper'!E20*B8*B7) -> 663
A12: Auslastung des Bodenpflegegerätes in h/Jahr | B12: ='Kosten Bodenpflegegerät'!B9 -> 80 | C12: ='Kosten Bodenpflegegerät'!E19*(B7*B8+B9*B10) -> 235.56
A13: Auslastung des Scheibe | B13: ='Kosten Scheibe'!B9 -> 80 | C13: ='Kosten Scheibe'!E19*Kostenzusammenstellung!B9*Kostenzusammenstellung!B10 -> 129.225
A14: Kosten pro Bearbeitungsdurchgang | C14: =C15/(B8+B10) -> 253.557
A15: Summe der Kosten | C15: =C6+C11+C12+C13 -> 1267.785
A18: Vorgaben für die Berechnung | B18: Felder in Matrixen werden automatisch aktualisiert
A20: Arbeitskosten Fachkraft | B20: 25
A21: Arbeitsstunde Aushilfskraft | B21: 14.2
A22: Arbeitslohn Schlepperfahrer | B22: 20
A24: Grüne Zellen: Eingabe der eigenen Arbeitszeit
A25: Blaue Zellen: Aus Maschinenkosten einkopiert

Sheet Kosten Schlepper
B1: Berechnung | C1: Kosten pro Jahr | D1: Kosten pro Stunde | E1: Fixe Kosten pro Stunde für eine Arbeitsstunde pro Jahr
A2: Fixe Kosten
A3: Anschaffungswert | B3: 115000 | C3: =B3/10*9/10 -> 10350
A4: Zinssatz | B4: 0.05 | C4: =B3*B4 -> 5750
A5: Unterbringung | B5: 0.01 | C5: =B3*B5 -> 1150
A6: Versicherung 0,5 | B6: 0.005 | C6: =B3*B6 -> 575
A7: Restwert | B7: 0.2 | C7: =B3*B7 -> 23000
A8: Nutzungsdauer | B8: 10 Jahre
A9: Einsatzstunden pro Jahr | B9: 500
A10: Summe Fixe Kosten | C10: =SUM(C3:C6) -> 17825 | E10: =C10/B9 -> 35.65
A12: Variable Kosten
A13: Treibstoff | D13: 13
A14: Öl | D14: 0.4
A15: Reparatur | D15: 6.2
A17: Summe Variable Kosten pro Stunde | D17: =SUM(D13:D16) -> 19.6
A19: Arbeitskosten des Schleppers pro Stunde ohne Fahrer = Fixkosten pro Stunde zuzüglich Variabler Kosten pro Stunde:
E20: =E10+D17 -> 55.25

Sheet Kosten Bodenpflegegerät
A1: #VALUE! | B1: Berechnung | C1: Kosten pro Jahr | D1: Kosten pro Stunde | E1: Fixe Kosten pro Stunde für eine Arbeitsstunde pro Jahr
A2: Fixe Kosten
A3: Anschaffungswert | B3: 12500 | C3: 675
A4: Zinssatz | B4: 0.05 | C4: 375
A5: Unterbringung | B5: 0.01 | C5: 75
A6: Versicherung 0,5 | B6: 0.005 | C6: 37.5
A7: Restwert | B7: 0.1
A8: Nutzungsdauer | B8: 10 Jahre
A9: Einsatzstunden pro Jahr | B9: 80
A10: Summe Fixe Kosten | C10: 1162.5 | E10: =C10/B9 -> 14.53125
A12: Variable Kosten
A13: Schmierstoffe/Verschleißteile | D13: 4
A14: Reparatur | D14: 2.1
A16: Summe Variable Kosten pro Stunde | D16: 5.1
A18: Arbeitskosten des Bodenpflegegerätesgerätes pro Stunde ohne Fahrer = Fixkosten pro Stunde zuzüglich Variabler Kosten pro Stunde:
E19: 19.63

Sheet Kosten Scheibe
A1: #VALUE! | B1: Berechnung | C1: Kosten pro Jahr | D1: Kosten pro Stunde | E1: Fixe Kosten pro Stunde für eine Arbeitsstunde pro Jahr
A2: Fixe Kosten
A3: Anschaffungswert | B3: 4500 | C3: =B3/10*9/10 -> 405
A4: Zinssatz | B4: 0.05 | C4: =B3*B4 -> 225
A5: Unterbringung | B5: 0.01 | C5: =B3*B5 -> 45
A6: Versicherung 0,5 | B6: 0.005 | C6: =B3*B6 -> 22.5
A7: Restwert | B7: 0.1
A8: Nutzungsdauer | B8: 10 Jahre
A9: Einsatzstunden pro Jahr | B9: 80
A10: Summe Fixe Kosten | C10: =SUM(C3:C8) -> 697.5 | E10: =C10/40 -> 17.4375
A12: Variable Kosten
A13: Schmierstoffe/Verschleißteile | D13: 2
A14: Reparatur | D14: 2.1
A16: Summe Variable Kosten pro Stunde | D16: =SUM(D13:D15) -> 4.1
A18: Arbeitskosten des Bodenpflegegerätesgerätes pro Stunde ohne Fahrer = Fixkosten pro Stunde zuzüglich Variabler Kosten pro Stunde:
E19: =E10+D16 -> 21.5375

Sheet Drillmaschine
A1: #VALUE! | B1: Berechnung | C1: Kosten pro Jahr | D1: Kosten pro Stunde | E1: Fixe Kosten pro Stunde für eine Arbeitsstunde pro Jahr
A2: Fixe Kosten
A3: Anschaffungswert | B3: 5500 | C3: =B3/10*9/10 -> 495
A4: Zinssatz | B4: 0.05 | C4: =B3*B4 -> 275
A5: Unterbringung | B5: 0.01 | C5: =B3*B5 -> 55
A6: Versicherung 0,5 | B6: 0.005 | C6: =B3*B6 -> 27.5
A7: Restwert | B7: 0.1
A8: Nutzungsdauer | B8: 10 Jahre
A9: Einsatzstunden pro Jahr | B9: 40
A10: Summe Fixe Kosten | C10: =SUM(C3:C8) -> 852.5 | E10: =C10/40 -> 21.3125
A12: Variable Kosten
A13: Schmierstoffe/Verschleißteile | D13: 1
A14: Reparatur | D14: 2.1
A16: Summe Variable Kosten pro Stunde | D16: =SUM(D13:D15) -> 3.1
A18: Arbeitskosten des Bodenpflegegerätesgerätes pro Stunde ohne Fahrer = Fixkosten pro Stunde zuzüglich Variabler Kosten pro Stunde:
E19: =E10+D16 -> 24.4125

Sheet  Geräte
A2: Beispielberechnung für einen Einsatz eines Bodenpflegegerätes mit einer Fahrt pro Zeile
A3: 2 m Zeilenbreite
A4: Reihenlänge 100 m
A5: Wendezeit 9 sec + Anteilig Rüstzeit
A6: 6,50 m Vorgewende
A7: 10% Gefälle | B7: Tiefe Bodenbearbeitng in der Zeile | G7: Flache Bodenbearbeitung in der Zeile (nicht wendend) | I7: Flache Bodenbearbeitung in der Zeile (tw. wendend) | L7: Begrünunspflege
A8: Maschine | B8: Tiefengrubber | C8: Paralockerer | D8: Wippschar-lockerer | E8: Spaten-maschine | F8: Spatenfräse | G8: Grubber | H8: Scheibenegge | I8: Fräse | J8: Kreiselegge | K8: Vorgrubber | L8: Kreiselmulcher | M8: Schlegelmulcher
A10: Arbeitsgeschwindigkeit (Richtwerte) | B10: bis zu 8 km/h | C10: bis zu 8 km/h | D10: bis zu 6 km/h | E10: bis zu 4 km/h | F10: bis zu 4 km/h | G10: bis zu 10 km/h | H10: bis zu 12 km/h | I10: bis zu 6 km/h | J10: bis zu 6 km/h | K10: -- | L10: bis zu 6 km/h | M10: bis zu 6 km/h
A11: Theoretische Arbeitszeit bei maximaler Geschwindigkeit | B11: 53 Minuten | C11: 53 Minuten | D11: 65 Minuten | E11: 90 Minuten | F11: 90 Minuten | G11: 45 Minuten | H11: 40 Minuten | I11: 65 Minuten | J11: 65 Minuten | L11: 65 Minuten | M11: 65 Minuten
