Workbook

Sheet Kosten der Verfahren
A1: Systemberechnung für das Ausbrechen durch Aushilfskräfte | E1: Berechnungsmöglichkeiten
A2: Kosten des Ausbrechens Stock und Stamm | B2: Annahmen für Berechnungsgrundlage | C2: Kosten pro Jahr | E2: Die orangenen Zellen werden einkopiert. Arbeitsstundenentlohnung unten auf der Seite eingeben. Fix-und Variable Maschinenkosten werden aus den Tabellenblättern Kosten Schlepper und Kosten Geräte einkopiert. In den Matrixen der Geräte können die Kosten für das einzelne Verfahren individuell berechnet werden.
A3: Kosten:
A4: Arbeitskosten Fachkraft | B4: =B48 -> 25 | C4: =B4*B6*B8 -> 50
A5: Arbeitskosten Saisonarbeitskraft | B5: =B50 -> 14.2 | C5: =B5*B7*B8 -> 1022.4
A6: Arbeitszeit pro Maßnahme (Stunden) Fachkraft | B6: ='Verfahren Ausbrechen'!D4 -> 1
A7: Arbeitszeit pro Maßnahme (Stunden) Saisonarbeitskraft | B7: ='Verfahren Ausbrechen'!D6 -> 36
A8: Anzahl der Durchgänge | B8: 2 | E8: Grüne Zellen: Eingabe der eigenen Arbeitszeit
A9: h Schlepper | B9: 0 | E9: Blaue Zellen: Aus Maschinenkosten einkopiert
A10: Material pro ha | B10: 20 | C10: =B10*B8 -> 40
A12: Summe der Kosten | C12: =SUM(C4:C10) -> 1112.4 | E12: Felder in Matrixen werden automatisch aktualisiert
A15: Systemberechnung für das Ausbrechen des Stammbereiches mit einer Stockbürste und das Stockausbrechen mit Aushilfskräften
A16: Kosten des Laubschnittes | B16: Annahmen für Berechnungsgrundlage | C16: Kosten pro Jahr
A17: Kosten:
A18: Arbeitskosten Fachkraft | B18: =B48 -> 25 | C18: =B21*B18*B24 -> 50
A19: Arbeitskosten Schlepperfahrer | B19: =B49 -> 20 | C19: =B19*B22*B24 -> 120
A20: Arbeitskosten Saisonarbeitskraft | B20: =B50 -> 14.2 | C20: =B20*B23*B24 -> 710
A21: Arbeitszeit pro Maßnahme (Stunden) Fachkraft | B21: 1
A22: Arbeitszeit pro Maßnahme (Stunden) Schlepperfahrer | B22: 3
A23: Arbeitszeit pro Maßnahme (Stunden) Saisonarbeitskraft | B23: 25
A24: Anzahl der Durchgänge | B24: 2
A25: Auslastung Stockbürste in Stunden pro Jahr | B25: ='Kosten Ausbrechtunnel'!B9 -> 80 | C25: =B24*B22*'Kosten Stockbürste'!E19 -> 109.3875
A26: Auslastung des Schleppers in Stunden pro Jahr | B26: ='Kosten Schlepper'!B17 -> 500 | C26: =B24*B22*'Kosten Schlepper'!E26 -> 329.7
A27: Material pro ha | B27: ='Verfahren Ausbrechen'!D11 -> 20 | C27: =B27*B24 -> 40
A28: Summe der Kosten | C28: =SUM(C18:C27) -> 1359.0875
A30: Systemberechnung für das chemische Ausbrechen des Stammbereiches und das Stockausbrechen mit Aushilfskräften
A31: Kosten des Laubschnittes | B31: Annahmen für Berechnungsgrundlage | C31: Kosten pro Jahr
A32: Kosten:
A33: Arbeitskosten Fachkraft | B33: =B48 -> 25 | C33: =B36*B33*B39 -> 50
A34: Arbeitskosten Schlepperfahrer | B34: =B49 -> 20 | C34: =B34*B37*B39 -> 80
A35: Arbeitskosten Saisonarbeitskraft | B35: =B50 -> 14.2 | C35: =B35*B38*B39 -> 710
A36: Arbeitszeit pro Maßnahme (Stunden) Fachkraft | B36: ='Verfahren Ausbrechen'!F4 -> 1
A37: Arbeitszeit pro Maßnahme (Stunden) Schlepperfahrer | B37: ='Verfahren Ausbrechen'!F2 -> 2
A38: Arbeitszeit pro Maßnahme (Stunden) Saisonarbeitskraft | B38: ='Verfahren Ausbrechen'!F6 -> 25
A39: Anzahl der Durchgänge | B39: 2
A40: Mittelkosten | B40: =Mittelkosten!H5 -> 62.5 | C40: =B40*B39 -> 125
A41: Auslastung Herbizidtunnel in Stunden pro Jahr | B41: ='Kosten Ausbrechtunnel'!B9 -> 80 | C41: =B37*B39*'Kosten Ausbrechtunnel'!E19 -> 68.525
A42: Auslastung des Schleppers in Stunden pro Jahr | B42: ='Kosten Schlepper'!B17 -> 500 | C42: =B37*B39*'Kosten Schlepper'!E26 -> 219.8
A43: Material pro ha | B43: ='Verfahren Ausbrechen'!D11 -> 20 | C43: =B43*B39 -> 40
A44: Summe der Kosten | C44: =SUM(C33:C43) -> 1293.325
...

Sheet Verfahren Ausbrechen
A1: Sytemvergleich Ausbrechen 4166 Stock, 2,00 m Zeilenbreite, 1,20 m Stockabstand Burgunder | B1: Dimension | C1: Ausbrechen per Hand | D1: Arbeitszeit | E1: 2x Chemisch im Stammbereich, Stockbereich per Hand | F1: Arbeitszeit | G1: 2x Stockbürste für den Stammbereich, Stockbereich von Hand | H1: Arbeitszeit
A2: Stammbereich (2x) | D2: 16 | F2: 2 | H2: 3
A3: Stockbereich | D3: 20 | F3: 25 | H3: 25
A4: Summe Arbeitszeit Betriebsleiter | B4: Stunden | D4: 1 | F4: 1 | H4: 1
A5: Summe Arbeitszeit Schlepperfahrer | B5: Stunden | D5: 0 | F5: =F2 -> 2 | H5: =H2 -> 3
A6: Summe Arbeitszeit Saisonarbeitskräfte | B6: Stunden | D6: =D2+D3 -> 36 | F6: 25 | H6: 25
A7: Summe Arbeitszeit System | B7: Stunden | D7: =D6+D5+D4 -> 37 | F7: =F6+F5+F4 -> 28 | H7: =H6+H5+H4 -> 29
A8: Arbeitsstunden Gerät | B8: Stunden | F8: =F2 -> 2 | H8: =H2 -> 3
A9: Arbeitskosten Geräteeinsatz | B9: €/ha | F9: =F8*'Kosten Ausbrechtunnel'!E19 -> 34.2625 | H9: =H8*'Kosten Stockbürste'!E19 -> 54.69375
A10: Arbeitskosten Schlepper | B10: €/ha | F10: =F8*'Kosten Schlepper'!E26 -> 109.9 | H10: =H8*'Kosten Schlepper'!E26 -> 164.85
A11: Mittelkosten/Materialkosten | B11: €/ha | D11: 20 | F11: =Mittelkosten!H5+D11 -> 82.5 | H11: 20
A12: Arbeitskosten Fachkraft pro h | B12: =B24 -> 25 | D12: =D4*B12 -> 25 | F12: =F4*B12 -> 25 | H12: =H4*B12 -> 25
A13: Arbeitskosten Schlepperfahrer pro h | B13: =B26 -> 20 | F13: =F2*B13 -> 40 | H13: =H2*B13 -> 60
A14: Arbeitskosten Aushilfsktaft pro h | B14: =B25 -> 14.2 | D14: =D6*B14 -> 511.2 | F14: =F3*B14 -> 355 | H14: =H3*B14 -> 355
A15: Summe der Kosten für einen Durchgang | D15: =SUM(D11:D14) -> 556.2 | F15: =SUM(F9:F14) -> 646.6625 | H15: =SUM(H9:H14) -> 679.54375
A16: Anzahl der Durchgänge | D16: 2 | F16: 2 | H16: 2
A17: Summe der Kosten für einen Durchgang | D17: =D15*D16 -> 1112.4 | F17: =F16*F15 -> 1293.325 | H17: =H16*H15 -> 1359.0875
A24: ='Kosten der Verfahren'!A48 -> Arbeitskosten Fachkraft | B24: ='Kosten der Verfahren'!B48 -> 25
A25: ='Kosten der Verfahren'!A50 -> Arbeitsstunde Aushilfskraft | B25: ='Kosten der Verfahren'!B50 -> 14.2
A26: ='Kosten der Verfahren'!A49 -> Arbeitslohn Schlepperfahrer | B26: ='Kosten der Verfahren'!B49 -> 20

Sheet Kosten Schlepper
B1: Berechnung | C1: Kosten pro Jahr | D1: Kosten pro Stunde | E1: Fixe Kosten pro Stunde bei ___ Arbeitsstunden pro Jahr
A2: Fixe Kosten
A3: Anschaffungswert | B3: 115000 | C3: =(B3-C4)/B8 -> 9200
A4: Restwert | B4: 0.2 | C4: =B3*B4 -> 23000
A5: Zinssatz | B5: 0.05 | C5: =B3*B5 -> 5750
A6: Unterbringung | B6: 0.01 | C6: =B3*B6 -> 1150
A7: Versicherung | B7: 0.005 | C7: =B3*B7 -> 575
A8: Nutzungsdauer in Jahren | B8: 10
A9: Summe Fixe Kosten | C9: =SUM(C5:C8)+C3 -> 16675 | E9: =C9/(B17+B19*B20) -> 33.35
A11: Variable Kosten | B11: pro Betriebsstunde
A12: Treibstoff | D12: 15
A13: Öl | D13: 0.4
A14: Reparatur | D14: 6.2
A16: Einsatzbedfingungen
A17: Arbeitsstunden pro Jahr | B17: 500
A18: oder | B18: Bitte nur Arbeitsstunden pro Jahr oder Arbeitsstunden pro Hektar und Fläche eingeben!
A19: Arbeitsstunden pro Hektar | B19: 0
A20: Einsatzfläche | B20: 0
A21: --> Arbeitsstunden pro Jahr | C21: =B17+B19*B20 -> 500
A23: Summe Variable Kosten pro Stunde | D23: =SUM(D12:D15) -> 21.6
A25: Arbeitskosten des Schleppers pro Stunde ohne Fahrer = Fixkosten pro Stunde zuzüglich Variabler Kosten pro Stunde:
E26: =E9+D23 -> 54.95

Sheet Mittelkosten
A1: Vorgesehene Behandlungen | B1: Empfohlener Wasseraufwand in Liter pro Hektar | C1: Aufwand | D1: Preis pro Liter | H1: Mittelkosten pro Hektar
A3: 1. Shark Behandlung | B3: 300 | C3: 0.5 | E3: 62.5 | H3: =E3*C3 -> 31.25
A4: 2. Shark Behandlung | B4: 300 | C4: 0.5 | E4: 62.5 | H4: =E4*C4 -> 31.25
A5: Summe der Mittelkosten | H5: =SUM(H2:H4) -> 62.5
A6: Wasserverbrauch/ha | B6: =SUM(B3:B5) -> 600 | C6: 3.2 | H6: =C6/1000*B6 -> 1.92
A8: Quelle: Ermittelte Durchschnittspreise incl MwSt. ohne Rabatte für das Jahr2023 Rebschutzaufruf Landratsamt Karlsruhe

Sheet Kosten Ausbrechtunnel
B1: Berechnung | C1: Kosten pro Jahr | D1: Kosten pro Stunde | E1: Fixe Kosten pro Stunde für eine Arbeitsstunde pro Jahr
A2: Fixe Kosten
A3: Anschaffungswert | B3: 4500 | C3: =(B3-C7)/B8 -> 405
A4: Zinssatz | B4: 0.05 | C4: =B3*B4 -> 225
A5: Unterbringung | B5: 0.01 | C5: =B3*B5 -> 45
A6: Versicherung 0,5 | B6: 0.005 | C6: =B6*B3 -> 22.5
A7: Restwert | B7: 0.1 | C7: =B3*B7 -> 450
A8: Nutzungsdauer in Jahren | B8: 10
A9: Einsatzstunden pro Jahr | B9: 80
A10: Summe Fixe Kosten | C10: 1162.5 | E10: =C10/B9 -> 14.53125
A12: Variable Kosten
A13: Schmierstoffe/Verschleißteile | D13: 0.1
A14: Reparatur/TüV | D14: 2.5
A16: Summe Variable Kosten pro Stunde | D16: =SUM(D13:D15) -> 2.6
A18: Arbeitskosten des Ausbrechtunnels pro Stunde ohne Fahrer = Fixkosten pro Stunde zuzüglich Variabler Kosten pro Stunde:
E19: =D16+E10 -> 17.13125

Sheet Kosten Stockbürste
B1: Berechnung | C1: Kosten pro Jahr | D1: Kosten pro Stunde | E1: Fixe Kosten pro Stunde für eine Arbeitsstunde pro Jahr
A2: Fixe Kosten
A3: Anschaffungswert | B3: 9000 | C3: =(B3-C7)/B8 -> 810
A4: Zinssatz | B4: 0.05 | C4: =B3*B4 -> 450
A5: Unterbringung | B5: 0.01 | C5: =B3*B5 -> 90
A6: Versicherung 0,5 | B6: 0.005 | C6: =B6*B3 -> 45
A7: Restwert | B7: 0.1 | C7: =B3*B7 -> 900
A8: Nutzungsdauer in Jahren | B8: 10
A9: Einsatzstunden pro Jahr | B9: 80
A10: Summe Fixe Kosten | C10: 1162.5 | E10: =C10/B9 -> 14.53125
A12: Variable Kosten
A13: Schmierstoffe/Verschleißteile | D13: 1.2
A14: Reparatur | D14: 2.5
A16: Summe Variable Kosten pro Stunde | D16: =SUM(D13:D15) -> 3.7
A18: Arbeitskosten des Bodenpflegegerätesgerätes pro Stunde ohne Fahrer = Fixkosten pro Stunde zuzüglich Variabler Kosten pro Stunde:
E19: =D16+E10 -> 18.23125
