Workbook

Sheet Kostenzusammenstellung
A1: Systemberechnung Pflanzenschutz mittlere Intensität
A2: Berechnungsbeispiel für eine Pflanzenschutzmaßnahme für einen Hektar | B2: Annahmen für Berechnungsgrundlage | C2: Kosten pro Jahr
A3: Kosten:
A4: Mittelkosten | C4: ='Mittelkosten 2025'!S14 -> 1381.7905
A5: Wasserkosten | B5: hoher Wasseraufwand | C5: ='Mittelkosten 2025'!S16 -> 16.64
A6: Arbeitskosten Schlepperfahrer | B6: =B17 -> 20 | C6: =B6*B7*B8 -> 270
A7: Arbeitszeit pro Maßnahme (Stunden) | B7: 1.5
A8: Anzahl der Behandlungen | B8: 9
A9: Auslastung des Schleppers (Stunden pro Jahr) | B9: ='Kosten Schlepper'!C21 -> 500 | C9: ='Kosten Schlepper'!E26*B7*B8 -> 805.275
A10: Auslastung des Pflanzenschutzgerätes | B10: 160 h/Jahr | C10: ='Kosten Pflanzenschutzgerät'!E26*B7*B8 -> 199.4625
A11: Kosten pro Spritzung (Mittelwert) | C11: =C12/B8 -> 297.01866
A12: Summe der Kosten | C12: =SUM(C4:C10) -> 2673.168
A15: Lohnansatz eigen: | B15: 25
A16: Lohnansatz Fremdlohn: | B16: 14.2
A17: Lohnansatz Schlepperfahrer: | B17: 20
A21: Kosten einer Pflanzenschutzmaßnahme
A22: =A4 -> Mittelkosten | B22: =C4 -> 1381.7905
A23: Wasserkosten | B23: =C5 -> 16.64
A24: Arbeitskosten | B24: =C6 -> 270
A25: Maschinenkosten Schlepper | B25: =C9 -> 805.275
A26: Maschinenkosten Pflanzenschutzgerät | B26: =C10 -> 199.4625
A27: Summe der Kosten | B27: =SUM(B22:B26) -> 2673.168

Sheet Mittelkosten 2025
A1: Vorgesehene Behandlungen | B1: Empfohlener Wasseraufwand in Liter pro Hektar | C1: Basisaufwand | D1: Pflanzenschutzmaßnahme | L1: Mittelpreis pro Hektar (Beispielmittel) nach Basisaufwand gerechnet | S1: Summe des Pflanzenschutzes
D2: Peronospora protektiv | E2: Peronospora kurativ | F2: Phosphonat in L/ha | G2: Oidium | H2: Oidiumzusatz (Netzschwefel/Backpulver) Liter oder Kilogramm | I2: Botrytis | J2: Blattdünger in L/ha oder kg/ha | K2: Traubenwickler | L2: Peronospora | M2: Oidium | N2: Botrytis | O2: Phosphonat | P2: Oidiumzusatz | Q2: Blattdünger | R2: Traubenwickler (Pheromonanwendung)
A3: Traubenwickler | C3: 1 | K3: 1 | O3: abzüglich Prämie | Q3: 100 | R3: 300 | S3: =(R3*K3+Q3*J3+M3*H3+L3*E3+L3*D3)*C3-Q3 -> 200
A4: 1. Vorblütebehandlung | B4: 100-400 | C4: 1 | D4: 1 | G4: 1 | L4: 6.10708 | M4: 11.067 | S4: =C4*D4*L4+C4*E4*L4+F4*O4+C4*G4*M4+H4*P4+C4*I4*N4+J4*Q4 -> 17.17408
A5: 2. Vorblütebehandlung | B5: 200-800 | C5: 2 | D5: 1 | G5: 1 | H5: 3.6 | J5: 2.5 | L5: 6.10708 | M5: 10.465455 | P5: 2.2134 | Q5: 9.73 | S5: =C5*D5*L5+C5*E5*L5+F5*O5+C5*G5*M5+H5*P5+C5*I5*N5+J5*Q5 -> 65.43831
A6: 3. Vorblütebehandlung | B6: 200-800 | C6: 2 | E6: 1 | F6: 2 | G6: 1 | H6: 3.6 | J6: 2.5 | L6: 22.04475 | M6: 12.29865 | O6: 14.28 | P6: 2.2134 | Q6: 9.73 | S6: =C6*D6*L6+C6*E6*L6+F6*O6+C6*G6*M6+H6*P6+C6*I6*N6+J6*Q6 -> 129.54004
A7: Blütebehandlung | B7: 250-800 | C7: 2.5 | E7: 1 | G7: 1 | L7: 21.53305 | M7: 29.155 | S7: =C7*D7*L7+C7*E7*L7+F7*O7+C7*G7*M7+H7*P7+C7*I7*N7+J7*Q7 -> 126.72012
A8: Vollblüte/Nachblütebehandlung | B8: 300-800 | C8: 3 | E8: 1 | G8: 1 | L8: 24.4545 | M8: 12.87699 | S8: =C8*D8*L8+C8*E8*L8+F8*O8+C8*G8*M8+H8*P8+C8*I8*N8+J8*Q8 -> 111.99447
A9: Vor Traubenschlussbehandlung | B9: 300-800 | C9: 3.5 | E9: 1 | G9: 1 | L9: 33.439 | M9: 43.7325 | S9: =C9*D9*L9+C9*E9*L9+F9*O9+C9*G9*M9+H9*P9+C9*I9*N9+J9*Q9 -> 270.10025
A10: 2. Nachblütebehandlung | B10: 400-800 | C10: 4 | D10: 1 | G10: 1 | H10: 3.6 | L10: 22.04475 | M10: 14.667345 | P10: =P5 -> 2.2134 | S10: =C10*D10*L10+C10*E10*L10+F10*O10+C10*G10*M10+H10*P10+C10*I10*N10+J10*Q10 -> 154.81662
A11: 3. Nachblütebehandlung | B11: 400-800 | C11: 4 | D11: 1 | G11: 1 | H11: 3.6 | L11: 6.10708 | M11: 12.29865 | P11: =P5 -> 2.2134 | S11: =C11*D11*L11+C11*E11*L11+F11*O11+C11*G11*M11+H11*P11+C11*I11*N11+J11*Q11 -> 81.59116
A12: Abschlussbehandlung | B12: 400-800 | C12: 4 | D12: 1 | H12: 5 | J12: 20 | L12: 22.0626 | M12: 4.48392 | P12: 24.633 | Q12: 0.65 | S12: =C12*D12*L12+C12*E12*L12+F12*O12+C12*G12*M12+H12*P12+C12*I12*N12+J12*Q12 -> 224.4154
A14: Summe der Mittelkosten | S14: =SUM(S3:S13) -> 1381.7905
A15: Wasserverbrauch minimal/ha | B15: 2050 | C15: 3.2 | S15: =C15/1000*B15 -> 6.56
A16: Wasserverbrauch maximal/ha | B16: 5200 | C16: 3.2 | S16: =C16/1000*B16 -> 16.64
A18: Quelle: Ermittelte Durchschnittspreise incl MwSt. ohne Rabatte für das Jahr 2025
A19: 1* Eisen, + 2+ Bittersalz, 3* Veriphos 4* Vitisan

Sheet Schlagkraft der Geräte
A2: Reine Fahrtzeit in abhängigkeit des Gerätetypes
A3: 2 m Zeilenbreite
A4: Reihenlänge 100 m
A5: 6,50 m Vorgewende
B6: Arbeitszeit pro Hektar
B7: jede Zeile | C7: 55 Minuten
B8: jede 2 te Zeile | C8: 30 Minuten
B9: 4 Teilbreiten | C9: 40 Minuten
B10: 8 Teilbreiten | C10: 18 Minuten

Sheet Kosten Schlepper
B1: Berechnung | C1: Kosten pro Jahr | D1: Kosten pro Stunde | E1: Fixe Kosten pro Stunde bei ___ Arbeitsstunden pro Jahr
A2: Fixe Kosten
A3: Anschaffungswert | B3: 135000 | C3: =(B3-C4)/B8 -> 10125
A4: Restwert | B4: 0.25 | C4: =B3*B4 -> 33750
A5: Zinssatz | B5: 0.05 | C5: =B3*B5 -> 6750
A6: Unterbringung | B6: 0.01 | C6: =B3*B6 -> 1350
A7: Versicherung | B7: 0.005 | C7: =B3*B7 -> 675
A8: Nutzungsdauer in Jahren | B8: 10
A9: Summe Fixe Kosten | C9: =SUM(C5:C8)+C3 -> 18900 | E9: =C9/(B17+B19*B20) -> 37.8
A11: Variable Kosten | B11: pro Betriebsstunde
A12: Treibstoff | D12: 13
A13: Öl | D13: 0.4
A14: Reparatur | D14: 8.45
A16: Einsatzbedfingungen
A17: Arbeitsstunden pro Jahr | B17: 500
A18: oder | B18: Bitte nur Arbeitsstunden pro Jahr oder Arbeitsstunden pro Hektar und Fläche eingeben!
A19: Arbeitsstunden pro Hektar | B19: 0
A20: Einsatzfläche | B20: 0
A21: --> Arbeitsstunden pro Jahr | B21: 0 | C21: =B17+B19*B20 -> 500
A23: Summe Variable Kosten pro Stunde | D23: =SUM(D12:D15) -> 21.85
A25: Arbeitskosten des Schleppers pro Stunde ohne Fahrer = Fixkosten pro Stunde zuzüglich Variabler Kosten pro Stunde:
E26: =E9+D23 -> 59.65

Sheet Kosten Pflanzenschutzgerät
B1: Berechnung | C1: Kosten pro Jahr | D1: Kosten pro Stunde | E1: Fixe Kosten pro Stunde bei ___ Arbeitsstunden pro Jahr
A2: Fixe Kosten
A3: Anschaffungswert | B3: 18000 | C3: =(B3-C4)/B8 -> 1710
A4: Restwert | B4: 0.05 | C4: =B3*B4 -> 900
A5: Zinssatz | B5: 0.01 | C5: =B3*B5 -> 180
A6: Unterbringung | B6: 0.005 | C6: =B3*B6 -> 90
A7: Versicherung | B7: 0 | C7: =B3*B7 -> 0
A8: Nutzungsdauer in Jahren | B8: 10
A9: Summe Fixe Kosten | C9: =SUM(C5:C8)+C3 -> 1980 | E9: =C9/(B17+B19*B20) -> 12.375
A11: Variable Kosten | B11: pro Betriebsstunde
A12: Treibstoff | D12: 0
A13: Öl | D13: 0.05
A14: Reparatur | D14: 2.35
A16: Einsatzbedfingungen
A17: Arbeitsstunden pro Jahr | B17: 160
A18: oder | B18: Bitte nur Arbeitsstunden pro Jahr oder Arbeitsstunden pro Hektar und Fläche eingeben!
A19: Arbeitsstunden pro Hektar | B19: 0
A20: Einsatzfläche | B20: 0
A21: --> Arbeitsstunden pro Jahr | B21: 0 | C21: =B17+B19*B20 -> 160
A23: Summe Variable Kosten pro Stunde | D23: =SUM(D12:D15) -> 2.4
A25: Arbeitskosten des Gerätes pro Stunde ohne Fahrer und Schlepper = Fixkosten pro Stunde zuzüglich Variabler Kosten pro Stunde:
E26: =E9+D23 -> 14.775

Sheet Wegestrecken
A1: Zeilenbreite | B1: Anzahl der Zeilen | C1: Wegelänge bei | D1: Reine Fahrtzeit bei | E1: Wendezeit | F1: Summe
B2: pro Hektar | C2: unterschiedlicher | D2: 6 km/h | E2: (Pro Wendung | F2: Fahrtzeit
B3: (100 m , 50 m , 300 m Zeilenlänge) | C3: Zeilenbreite | D3: (ohne Wendezeit) | E3: 18 s)
A4: 1,50 m | B4: 67 | C4: 6670 m/ha | D4: 67 Minuten | E4: 20 Minuten | F4: 87 Minuten 107 Minuten
B5: 134 | E5: 40 Minuten | F5: 74 Minuten
B6: 22 | E6: 7 Minuten
A7: 2,00 m | B7: 50 | C7: 5000 m/ha | D7: 50 Minuten | E7: 15 Minuten | F7: 65 Minuten
B8: 100 | E8: 30 Minuten | F8: 80 Minuten
B9: 16 | E9: 5 Minuten | F9: 55 Minuten
A10: 3,00 m | B10: 34 | C10: 3330 m/ha | D10: 34 Minuten | E10: 10 Minuten | F10: 44 Minuten
B11: 68 | E11: 20 Minuten | F11: 54 Minuten
B12: 11 | E12: 4 Minuten | F12: 38 Minuten

Sheet Mittelkosten 2023
A1: Vorgesehene Behandlungen | B1: Empfohlener Wasseraufwand in Liter pro Hektar | C1: Basisaufwand | D1: Pflanzenschutzmaßnahme | L1: Mittelpreis pro Hektar (Beispielmittel) nach Basisaufwand gerechnet | S1: Summe des Pflanzenschutzes
D2: Peronospora protektiv | E2: Peronospora kurativ | F2: Phosphonat in L/ha | G2: Oidium | H2: Oidiumzusatz (netzschwefel/Backpulver | I2: Botrytis | J2: Blattdünger in L/ha oder kg/ha | K2: Traubenwickler | L2: Peronospora | M2: Oidium | N2: Botrytis | O2: Phosphonat | P2: Oidiumzusatz | Q2: Blattdünger | R2: Traubenwickler (Pheromonanwendung)
A3: Traubenwickler | C3: 1 | K3: 1 | O3: abzüglich Prämie | Q3: 100 | R3: 300 | S3: =(R3*K3+Q3*J3+M3*H3+L3*E3+L3*D3)*C3-Q3 -> 200
A4: 1. Vorblütebehandlung | B4: 100-400 | C4: 1 | D4: 1 | G4: 1 | L4: 9.63 | M4: 5.65 | S4: =C4*D4*L4+C4*E4*L4+F4*O4+C4*G4*M4+H4*P4+C4*I4*N4+J4*Q4 -> 15.28
A5: 2. Vorblütebehandlung | B5: 200-800 | C5: 2 | D5: 1 | F5: 2 | G5: 1 | H5: 1 | J5: 2.5 | L5: 5.63 | M5: 5.65 | O5: 15.16 | P5: 7.75 | Q5: 9.73 | S5: =C5*D5*L5+C5*E5*L5+F5*O5+C5*G5*M5+H5*P5+C5*I5*N5+J5*Q5 -> 84.955
A6: Blütebehandlung | B6: 250-800 | C6: 2.5 | E6: 1 | G6: 1 | L6: 18.74 | M6: 7.75 | S6: =C6*D6*L6+C6*E6*L6+F6*O6+C6*G6*M6+H6*P6+C6*I6*N6+J6*Q6 -> 66.225
A7: Vor Traubenschlussbehandlung | B7: 300-800 | C7: 3.5 | E7: 1 | G7: 1 | I7: 1 | L7: 20.4 | M7: 9.63 | N7: 33.65 | S7: =C7*D7*L7+C7*E7*L7+F7*O7+C7*G7*M7+H7*P7+C7*I7*N7+J7*Q7 -> 222.88
A8: 2. Nachblütebehandlung | B8: 400-800 | C8: 4 | D8: 1 | F8: 4 | G8: 1 | L8: 5.63 | M8: 7.25 | O8: 15.16 | S8: =C8*D8*L8+C8*E8*L8+F8*O8+C8*G8*M8+H8*P8+C8*I8*N8+J8*Q8 -> 112.16
A9: 3. Nachblütebehandlung | B9: 400-800 | C9: 4 | E9: 1 | G9: 1 | J9: 10 | L9: 16.92 | M9: 5.48 | Q9: 0.65 | S9: =C9*D9*L9+C9*E9*L9+F9*O9+C9*G9*M9+H9*P9+C9*I9*N9+J9*Q9 -> 96.1
A10: Abschlussbehandlung | B10: 400-800 | C10: 4 | D10: 1 | H10: 4 | I10: 1 | J10: 20 | L10: 2.88 | N10: 39.37 | P10: 12.85 | Q10: 0.65 | S10: =C10*D10*L10+C10*E10*L10+F10*O10+C10*G10*M10+H10*P10+C10*I10*N10+J10*Q10 -> 233.4
A12: Summe der Mittelkosten | S12: =SUM(S3:S11) -> 1031
A13: Wasserverbrauch minimal/ha | B13: 2050 | C13: 3.2 | S13: =C13/1000*B13 -> 6.56
A14: Wasserverbrauch maximal/ha | B14: 5200 | C14: 3.2 | S14: =C14/1000*B14 -> 16.64
A16: Quelle: Ermittelte Durchschnittspreise incl MwSt. ohne Rabatte für das Jahr 2022/2023
A17: 1* Eisen, + 2+ Bittersalz, 3* Veriphos 4* Vitisan
A20: Billig mit Risiko
A21: Vorgesehene Behandlungen | B21: Empfohlener Wasseraufwand in Liter pro Hektar | C21: Basisaufwand | D21: Pflanzenschutzmaßnahme | L21: Mittelpreis pro Hektar (Beispielmittel) nach Basisaufwand gerechnet | S21: Summe des Pflanzenschutzes
A22: Billig und Riskant | D22: Peronospora protektiv | E22: Peronospora kurativ | F22: Phosphonat in L/ha | G22: Oidium | H22: Oidiumzusatz (netzschwefel/Backpulver | I22: Botrytis | J22: Blattdünger in L/ha oder kg/ha | K22: Traubenwickler | L22: Peronospora | M22: Oidium | N22: Botrytis | O22: Phosphonat | P22: Oidiumzusatz | Q22: Blattdünger | R22: Traubenwickler (Pheromonanwendung)
A23: Traubenwickler | C23: 1 | K23: 1 | R23: 200 | S23: =(R23*K23+Q23*J23+M23*H23+L23*E23+L23*D23)*C23 -> 200
A24: 1. Vorblütebehandlung | B24: 100-400 | C24: 1 | D24: 1 | G24: 1 | L24: 4.45 | M24: 5.65 | S24: =C24*D24*L24+C24*E24*L24+F24*O24+C24*G24*M24+H24*P24+C24*I24*N24+J24*Q24 -> 10.1
A25: 2. Vorblütebehandlung | B25: 200-800 | C25: 2 | D25: 1 | F25: 2 | G25: 1 | H25: 1 | J25: 2.5 | L25: 5.63 | M25: 5.65 | O25: 15.16 | P25: 7.75 | S25: =C25*D25*L25+C25*E25*L25+F25*O25+C25*G25*M25+H25*P25+C25*I25*N25+J25*Q25 -> 60.63
A26: Blütebehandlung | B26: 250-800 | C26: 2.5 | E26: 1 | G26: 1 | L26: 18.74 | M26: 7.75 | S26: =C26*D26*L26+C26*E26*L26+F26*O26+C26*G26*M26+H26*P26+C26*I26*N26+J26*Q26 -> 66.225
A27: Vor Traubenschlussbehandlung | B27: 300-800 | C27: 3.5 | E27: 1 | G27: 1 | I27: 1 | L27: 5.63 | M27: 9.03 | S27: =C27*D27*L27+C27*E27*L27+F27*O27+C27*G27*M27+H27*P27+C27*I27*N27+J27*Q27 -> 51.31
A28: 2. Nachblütebehandlung | B28: 400-800 | C28: 4 | D28: 1 | F28: 4 | G28: 1 | L28: 5.63 | M28: 7.25 | O28: 15.16 | S28: =C28*D28*L28+C28*E28*L28+F28*O28+C28*G28*M28+H28*P28+C28*I28*N28+J28*Q28 -> 112.16
A29: 3. Nachblütebehandlung | B29: 400-800 | C29: 4 | D29: 1 | F29: 4 | G29: 1 | L29: 5.63 | M29: 7 | O29: 15.16 | S29: =C29*D29*L29+C29*E29*L29+F29*O29+C29*G29*M29+H29*P29+C29*I29*N29+J29*Q29 -> 111.16
A30: 4. Nachblütebehandlung | B30: 400-800 | C30: 4 | E30: 1 | G30: 1 | L30: 16.92 | M30: 5.48 | S30: =C30*D30*L30+C30*E30*L30+F30*O30+C30*G30*M30+H30*P30+C30*I30*N30+J30*Q30 -> 89.6
A31: Abschlussbehandlung | B31: 400-800 | C31: 4 | D31: 1 | H31: 4 | I31: 0 | L31: 2.88 | P31: 12.85 | S31: =C31*D31*L31+C31*E31*L31+F31*O31+C31*G31*M31+H31*P31+C31*I31*N31+J31*Q31 -> 62.92
A33: Summe der Mittelkosten | S33: =SUM(S23:S32) -> 764.105
A34: Wasserverbrauch minimal/ha | B34: 2050 | C34: 3.2 | S34: =C34/1000*B34 -> 6.56
A35: Wasserverbrauch maximal/ha | B35: 5200 | C35: 3.2 | S35: =C35/1000*B35 -> 16.64
A37: Quelle: Ermittelte Durchschnittspreise incl MwSt. ohne Rabatte für das Jahr 2022/2023
A38: 1* Eisen, + 2+ Bittersalz, 3* Veriphos 4* Vitisan
