Workbook

Sheet Kosten der Verfahren
A1: Kosten der Traubenernte 1 Lesedurchgang | B1: Annahmen für Berechnungsgrundlage | C1: Kosten pro Jahr
A2: Kosten:
A3: Arbeitskosten Fachkraft | B3: =B51 -> 25 | C3: =B3*B5*B7 -> 125
A4: Arbeitskosten Saisonarbeitskraft | B4: =B52 -> 14.7 | C4: =B4*B6*B7 -> 955.5
A5: Arbeitszeit pro Maßnahme (Stunden) Fachkraft | B5: ='Verfahren Traubenernte'!B5 -> 5
A6: Arbeitszeit pro Maßnahme (Stunden) Saisonarbeitskraft | B6: ='Verfahren Traubenernte'!B6 -> 65
A7: Anzahl der Durchgänge | B7: 1
A8: h Schlepper für die Traubenabfuhr | B8: ='Verfahren Traubenernte'!B8 -> 4
A9: h Schlepper für die Traubetransport an Erfassung | B9: ='Verfahren Traubenernte'!B7 -> 1
A10: Auslastung des Schleppers | B10: 500 h/Jahr | C10: =(B9+B8)*B7*'Kosten Schlepper'!E26 -> 298.25
A11: Summe der Kosten | C11: =SUM(C3:C9) -> 1080.5
A14: Kosten der Traubenernte 3 mal mit der Hand -->Selektion | B14: Annahmen für Berechnungsgrundlage | C14: Kosten pro Jahr
A15: Kosten:
A16: Arbeitskosten Fachkraft | B16: =B51 -> 25 | C16: =B16*B18*B20 -> 375
A17: Arbeitskosten Saisonarbeitskraft | B17: =B52 -> 14.7 | C17: =B17*B19*B20 -> 2646
A18: Arbeitszeit pro Maßnahme (Stunden) Fachkraft | B18: 5 | C18: insg 15 h
A19: Arbeitszeit pro Maßnahme (Stunden) Saisonarbeitskraft | B19: 60 | C19: insges:180 h
A20: Anzahl der Durchgänge | B20: 3
A21: h Schlepper für die Traubenabfuhr | B21: 3
A22: h Schlepper für die Traubetransport an Erfassung | B22: 1
A23: Auslastung des Schleppers | B23: 500 h/Jahr | C23: =(B22+B21)*B20*'Kosten Schlepper'!E26 -> 715.8
A24: Summe der Kosten | C24: =SUM(C16:C22) -> 3021
A26: Kosten der Traubenernte gezogener Vollernter | B26: Annahmen für Berechnungsgrundlage | C26: Kosten pro Jahr
A27: Kosten:
A28: Arbeitskosten | B28: =B53 -> 20 | C28: =B28*(B29+B33)*B30 -> 100
A29: Arbeitszeit pro Maßnahme (Stunden) | B29: ='Verfahren Traubenernte'!D9 -> 3
A30: Anzahl der Durchfahrten | B30: 1
A31: Auslastung des Schleppers | B31: 500 h/Jahr | C31: ='Kosten Schlepper'!E26*(B29+B33)*B30 -> 298.25
A32: Auslastung des gez. Vollernters | B32: 200 h/Jahr | C32: ='Verfahren Traubenernte'!D9*'Kosten gezogen'!E19 -> 453
A33: h Schlepper für die Traubetransport an Erfassung | B33: ='Verfahren Traubenernte'!D7 -> 2
A34: Summe der Kosten | C34: =SUM(C28:C32) -> 851.25
A37: Kosten der Traubenernte selbstfahrender Vollernter | B37: Annahmen für Berechnungsgrundlage | C37: Kosten pro Jahr
A38: Kosten:
A39: Arbeitskosten | B39: =B53 -> 20 | C39: =B39*(B40+B42)*B41 -> 80
A40: Arbeitszeit pro Maßnahme (Stunden) | B40: 2
A41: Anzahl der Durchfahrten | B41: 1
A42: h Schlepper für die Traubetransport an Erfassung | B42: ='Verfahren Traubenernte'!E7 -> 2
A43: Auslastung des Traubenernters | B43: 200 h/Jahr | C43: ='Kosten Selbstfahrer'!E19*B40 -> 644.1
A44: Auslastung des Schleppers | B44: 500 h/Jahr | C44: ='Kosten Schlepper'!E26*(B42)*B41 -> 119.3
A45: Summe der Kosten | C45: =SUM(C39:C43) -> 724.1
...

Sheet Verfahren Traubenernte
A1: Traubenernte
A2: Maßnahme | B2: Traubenernte | C2: Traubenernte | D2: Traubenernte | E2: Traubenernte
A3: Art | C3: selektiv 3 Durchgänge | D3: maschinell | E3: maschinell
B4: Hand | C4: Hand | D4: gezogener Traubenernter | E4: Selbstfahrender Vollernter
A5: Arbeitszeit für die Ernte Fachkräfte | B5: 5 | C5: 15 | D5: 6 | E5: 5
A6: Arbeitszeit für die Ernte Aushilfskräfte | B6: 65 | C6: 180 | D6: 0 | E6: 0
A7: Arbeitszeit Traktor Traubentransport | B7: 1 | C7: 6 | D7: 2 | E7: 2
A8: Arbeitszeit Traktor/Maschine für Ernteabfuhr aus Weinberg | B8: 4 | C8: 12 | D8: 0 | E8: 0
A9: Arbeitszeit Traubenerntegerät | B9: 0 | C9: 0 | D9: 3 | E9: 2

Sheet Kosten Schlepper
B1: Berechnung | C1: Kosten pro Jahr | D1: Kosten pro Stunde | E1: Fixe Kosten pro Stunde bei ___ Arbeitsstunden pro Jahr
A2: Fixe Kosten
A3: Anschaffungswert | B3: 135000 | C3: =(B3-C4)/B8 -> 10125
A4: Restwert | B4: 0.25 | C4: =B3*B4 -> 33750
A5: Zinssatz | B5: 0.05 | C5: =B3*B5 -> 6750
A6: Unterbringung | B6: 0.01 | C6: =B3*B6 -> 1350
A7: Versicherung | B7: 0.005 | C7: =B3*B7 -> 675
A8: Nutzungsdauer in Jahren | B8: 10
A9: Summe Fixe Kosten | C9: =SUM(C5:C8)+C3 -> 18900 | E9: =C9/(B17+B19*B20) -> 37.8
A11: Variable Kosten | B11: pro Betriebsstunde
A12: Treibstoff | D12: 13
A13: Öl | D13: 0.4
A14: Reparatur | D14: 8.45
A16: Einsatzbedfingungen
A17: Arbeitsstunden pro Jahr | B17: 500
A18: oder | B18: Bitte nur Arbeitsstunden pro Jahr oder Arbeitsstunden pro Hektar und Fläche eingeben!
A19: Arbeitsstunden pro Hektar | B19: 0
A20: Einsatzfläche | B20: 0
A21: --> Arbeitsstunden pro Jahr | B21: 0 | C21: =B17+B19*B20 -> 500
A23: Summe Variable Kosten pro Stunde | D23: =SUM(D12:D15) -> 21.85
A25: Arbeitskosten des Schleppers pro Stunde ohne Fahrer = Fixkosten pro Stunde zuzüglich Variabler Kosten pro Stunde:
E26: =E9+D23 -> 59.65

Sheet Kosten Selbstfahrer
B1: Berechnung | C1: Kosten pro Jahr | D1: Kosten pro Stunde | E1: Fixe Kosten pro Stunde bei 200 Arbeitsstunden pro Jahr | F1: Fixe Kosten pro Stunde bei 300 Arbeitsstunden pro Jahr
A2: Fixe Kosten
A3: Anschaffungswert | B3: 350000 | C3: =B3/10*9/10 -> 31500
A4: Zinssatz | B4: 0.05 | C4: =B3*B4 -> 17500
A5: Unterbringung | B5: 0.01 | C5: =B3*B5 -> 3500
A6: Versicherung 0,5 | B6: 0.005 | C6: =B3*B6 -> 1750
A7: Restwert | B7: 0.1
A8: Nutzungsdauer | B8: 10 Jahre
A9: Summe Fixe Kosten | C9: =SUM(C3:C8) -> 54250 | E9: =C9/200 -> 271.25 | F9: =C9/300 -> 180.83333
A11: Variable Kosten
A12: Treibstoff | D12: 42
A13: Öl | D13: 1
A14: Reparatur | D14: 7.8
A16: Summe Variable Kosten pro Stunde | D16: =SUM(D12:D15) -> 50.8
A18: Arbeitskosten des Traubenerntegrätes pro Stunde ohne Fahrer = Fixkosten pro Stunde zuzüglich Variabler Kosten pro Stunde:
E19: =E9+D16 -> 322.05 | F19: =F9+E16 -> 180.83333

Sheet Kosten gezogen
B1: Berechnung | C1: Kosten pro Jahr | D1: Kosten pro Stunde | E1: Fixe Kosten pro Stunde bei 200 Arbeitsstunden pro Jahr
A2: Fixe Kosten
A3: Anschaffungswert | B3: 180000 | C3: =B3/10*9/10 -> 16200
A4: Zinssatz | B4: 0.05 | C4: =B3*B4 -> 9000
A5: Unterbringung | B5: 0.01 | C5: =B3*B5 -> 1800
A6: Versicherung 0,5 | B6: 0.005 | C6: =B3*B6 -> 900
A7: Restwert | B7: 0.1
A8: Nutzungsdauer | B8: 10 Jahre
A9: Summe Fixe Kosten | C9: =SUM(C3:C8) -> 27900 | E9: =C9/200 -> 139.5
A11: Variable Kosten
A12: Treibstoff | D12: 0
A13: Öl | D13: 1
A14: Reparatur | D14: 10.5
A16: Summe Variable Kosten pro Stunde | D16: =SUM(D12:D15) -> 11.5
A18: Arbeitskosten des Traubenerntegrätes pro Stunde ohne Fahrer = Fixkosten pro Stunde zuzüglich Variabler Kosten pro Stunde:
E19: =E9+D16 -> 151

Sheet Kosten Traubenerntemaschine
B1: Maschinenkalkulation
A2: Maschine | B2: Vollernter
A3: Anschaffungskosten | B3: 320000 | C3: €
A4: Restwert | B4: 20000 | C4: €
A5: Nutzungsdauer | B5: 10 | C5: Jahre
A6: kalkul. Nutzungsdauer | B6: 5000 | C6: h
A7: kalkul. Zinsfuß | B7: 6 | C7: %/a
A8: Kapitalbindung | B8: 50 | C8: %
A9: Afa Zeit | B9: =(B3-B4)/B5 -> 30000 | C9: €/a
A10: Afa Leistung | B10: =(B3-B4)/B6 -> 60 | C10: €/h
A11: Zinsen | B11: =B3*B8*B7/10000 -> 9600 | C11: €/a
A12: Versicherung | B12: 0.5 | C12: %Nw
B13: =B3*B12/100 -> 1600 | C13: €/a
A14: Unterstellung | B14: 600 | C14: €/a
A15: Festkosten | B15: =B11+B9+B13+B14 -> 41800 | C15: €/a
A16: =CONCATENATE("Festkosten/h bei ",B26*B27+B26*B29," h/a") -> Festkosten/h bei 440 h/a | B16: =B15/B26/B27 -> 104.5 | C16: €/h
A18: Treibstoff | B18: 15 | C18: l/h
A19: Treibstoffkosten | B19: 0.95 | C19: €/l
A20: sonst. variable Kosten | B20: 3 | C20: €/h
A21: Bedienung | B21: 1 | C21: Pers.
A22: Personalkosten | B22: 15 | C22: €/P/h
A23: Reparaturen | B23: 10 | C23: €/h
A24: variable Kosten | B24: =B18*B19+B20+B21*B22+B23 -> 42.25 | C24: €/h
A26: Kampagne | B26: 40 | C26: d/a
A27: Nutzung/Tag | B27: 10 | C27: h
A28: Reinigen u. Repar. | B28: 2 | C28: h/d
A29: Wegezeiten | B29: 1 | C29: h/d
A30: weit. variable Kosten | B30: =(B28+B29)*B22 -> 45 | C30: €/d
A31: = vari. Kosten/h | B31: =B30/B27 -> 4.5 | C31: €/h
A33: Arbeitsgeschw. | B33: 3.5 | C33: km/h
B34: =B33/3.6 -> 0.97222222 | C34: m/s
A35: Wendezeit | B35: 0.3 | C35: Min.
A36: sonstige Zeiten | B36: 0.3 | C36: Min.
A37: Zeilenlänge | B37: 80 | C37: m
A38: Zeilenbreite | B38: 2 | C38: m
A39: Zeilen/ha | B39: =10000/B37/B38 -> 62.5 | C39: Zeilen
A40: Strecke/ha | B40: =B39*B37 -> 5000 | C40: m
A41: reine Arbeitszeit | B41: =B40/B33/1000 -> 1.4285714 | C41: h/ha
A42: einschl. Nebenzeiten | B42: =B41+B39*(B36+B35)/60 -> 2.0535714 | C42: h/ha
A43: Leistung/Stunde | B43: =1/B42 -> 0.48695652 | C43: ha/h
...

Sheet Wegestrecken
A1: Zeilenbreite | B1: Anzahl der Zeilen | C1: Wegelänge bei | D1: Reine Fahrtzeit bei | E1: Wendezeit | F1: Summe
B2: pro Hektar | C2: unterschiedlicher | D2: 6 km/h | E2: (Pro Wendung | F2: Fahrtzeit
B3: (100 m , 50 m , 300 m Zeilenlänge) | C3: Zeilenbreite | D3: (ohne Wendezeit) | E3: 18 s)
A4: 1,50 m | B4: 67 | C4: 6670 m/ha | D4: 67 Minuten | E4: 20 Minuten | F4: 87 Minuten 107 Minuten
B5: 134 | E5: 40 Minuten | F5: 74 Minuten
B6: 22 | E6: 7 Minuten
A7: 2,00 m | B7: 50 | C7: 5000 m/ha | D7: 50 Minuten | E7: 15 Minuten | F7: 65 Minuten
B8: 100 | E8: 30 Minuten | F8: 80 Minuten
B9: 16 | E9: 5 Minuten | F9: 55 Minuten
A10: 3,00 m | B10: 34 | C10: 3330 m/ha | D10: 34 Minuten | E10: 10 Minuten | F10: 44 Minuten
B11: 68 | E11: 20 Minuten | F11: 54 Minuten
B12: 11 | E12: 4 Minuten | F12: 38 Minuten
