Workbook

Sheet Kostenzusammenstellung
A1: Systemberechnung für den Rebschnitt: Rebschnitt durch Fachkraft | F1: Berechnungsmöglichkeiten
A2: Standardspalieranlage Berechnungsbeispiel der Stockpflegekosten für einen Hektar (Standraum 2,00 m *1,20 m) | B2: Annahmen für Berechnungsgrundlage | C2: Kosten pro Hektar | F2: Die orangenen Zellen werden einkopiert. Arbeitsstundenentlohnung unten auf der Seite eingeben. Fix-und Variable Maschinenkosten werden aus den Tabellenblättern Kosten Schlepper und Kosten Geräte einkopiert. In den Matrixen der Geräte können die Kosten für das einzelne Verfahren individuell berechnet werden.
A3: Eine Rute angeschnitten
A6: Arbeitskosten Fachkraft | B6: =B70 -> 25 | C6: =B6*B8 -> 1950
A7: Arbeitsstunde Aushilfskraft | B7: =B71 -> 14.2 | C7: =B9*B7 -> 0
A8: Arbeitszeit Rebschnitt Fachkraft | B8: 78 | C8: <--Stunden pro ha | F8: Grüne Zellen: Eingabe der eigenen Arbeitszeit
A9: Arbeitszeit Rebschnitt Aushilfskraft | B9: 0 | C9: <--Stunden pro ha | F9: Blaue Zellen: Aus Maschinenkosten einkopiert
A10: Lohnkosten Vorschneidegerät
A12: Durchschnittliche Kosten der Arbeitsstunde: | C12: =C13/B8 -> 25
A13: Summe der Kosten pro ha | C13: =SUM(C4:C11) -> 1950
A15: Systemberechnung für den Rebschnitt: Anschnitt durch Fachkraft, Aushilfskraft hebt aus
A16: Standardspalieranlage Berechnungsbeispiel der Stockpflegekosten für einen Hektar (Standraum 2,00 m *1,20 m) | B16: Annahmen für Berechnungsgrundlage | C16: Kosten pro Hektar
A17: Eine Rute angeschnitten
A20: Arbeitskosten Fachkraft | B20: =B70 -> 25 | C20: =B20*B22 -> 750
A21: Arbeitsstunde Aushilfskraft | B21: =B71 -> 14.2 | C21: =B25*B21 -> 426
A22: Arbeitszeit Rebschnitt Fachkraft | B22: 30 | C22: <--Stunden pro ha
A23: Kosten der Akkuschere pro Stunde | B23: ='Kosten Akkuschere'!E25 -> 2.1533333
A24: Kosten der Akkuschere pro ha | C24: =B23*B22 -> 64.6
A25: Arbeitszeit Rebschnitt Aushilfskraft | B25: 30 | C25: <--Stunden pro ha
A27: Durchschnittliche Kosten der Arbeitsstunde: | C27: =(C28-C24)/(B22+B25) -> 19.6
A28: Summe der Kosten pro ha | C28: =SUM(C18:C26) -> 1240.6
A30: Systemberechnung für den Rebschnitt Kordon: Beide Heftdrahtpaare werden mechanisch ausgeschnitten, Rebschnitt durch Fachkraft
A31: Standardspalieranlage Berechnungsbeispiel der Stockpflegekosten für einen Hektar (Standraum 2,00 m *1,20 m) | B31: Annahmen für Berechnungsgrundlage | C31: Kosten pro Hektar
A32: 2 Flachbögen mit Rebschnitt auf Zapfen
A35: Arbeitskosten Fachkraft | B35: =B70 -> 25 | C35: =B35*B37 -> 875
A36: Arbeitsstunde Aushilfskraft | B36: =B71 -> 14.2 | C36: =B38*B36 -> 0
A37: Arbeitszeit Rebschnitt Fachkraft | B37: 35 | C37: <--Stunden pro ha
A38: Arbeitszeit Rebschnitt Aushilfskraft | B38: 0 | C38: <--Stunden pro ha
A39: Arbeitszeit Vorschneider | B39: ='Kosten Vorschneider'!B19 -> 2.5 | C39: <--Stunden pro ha
A40: Kosten Vorschneidegerät + Schlepper pro Stunde | B40: ='Kosten Schlepper'!E26+'Kosten Vorschneider'!E26 -> 68.55
A41: Kosten Vorschneidegerät + Schlepper pro Hektar | C41: =B40*B39 -> 171.375
A42: Arbeitslohn Schlepperfahrer | B42: =B72 -> 20 | C42: =B39*B42 -> 50
A44: Durchschnittliche Kosten der Arbeitsstunde: | C44: =(C45-C41)/(B37+B39) -> 24.666667
A45: Summe der Kosten pro ha | C45: =SUM(C33:C43) -> 1096.375
A47: Systemberechnung für den Rebschnitt: Minimalschnittsysteme
A48: Standardminimalschnitt im Spalier Berechnungsbeispiel der Stockpflegekosten für einen Hektar (Standraum 2,00 m *1,20 m) | B48: Annahmen für Berechnungsgrundlage | C48: Kosten pro Hektar
A49: Aufgebautes Minimalschnittsystem
A52: Arbeitskosten Fachkraft | B52: =B70 -> 25 | C52: =B52*B55 -> 50
A53: Arbeitsstunde Aushilfskraft | B53: =B71 -> 14.2 | C53: =B56*B53 -> 0
A54: Arbeitslohn Schlepperfahrer | B54: =B72 -> 20 | C54: =B57*B54 -> 40
A55: Arbeitszeit Minimalschnitt Fachkraft | B55: 2 | C55: <--Stunden pro ha
A56: Arbeitszeit Rebschnitt Aushilfskraft | B56: 0 | C56: <--Stunden pro ha
A57: Arbeitszeit Laubschneider | B57: ='Kosten Laubschneider)'!B19 -> 2 | C57: <--Stunden pro ha
A58: Kosten Laubschneider + Schlepper pro Stunde | B58: ='Kosten Schlepper'!E26+'Kosten Laubschneider)'!E26 -> 82.175
A59: Kosten Laubschneider + Schlepper pro Hektar | C59: =B57*B58 -> 164.35
A60: Arbeitszeit "Nachrichten der Anlage" | B60: 5 | C60: =B60*B53 -> 71
A61: Materialverbrauch | B61: 50 | C61: =B61 -> 50
A63: Durchschnittliche Kosten der Arbeitsstunde: | C63: =(C64-C61-C59)/(B55+B60) -> 23
A64: Summe der Kosten pro ha | C64: =SUM(C50:C62) -> 375.35
A68: Vorgaben für die Berechnung | B68: Felder in Matrixen werden automatisch aktualisiert
A70: Arbeitskosten Fachkraft | B70: 25
A71: Arbeitsstunde Aushilfskraft | B71: 14.2
A72: Arbeitslohn Schlepperfahrer | B72: 20

Sheet Systemvergleich
B1: 4166 Stock, 2,00 m Zeilenbreite, 1,20 m Stockabstand Riesling | D1: Arbeitszeit | E1: Rebschnitt mit Vorschneider Oberes Heftdrahtpaar ausgeschnitten 2 kurze Ruten | G1: Arbeitszeit | H1: Rebschnitt mit Vorschneider Beide Heftdrahtpaare ausgeschnitten Kordon | J1: Arbeitszeit | K1: Minimalschnitt im Spalier 1 Winterschnitt, 2 Sommerschnitte im Laub | M1: Arbeitszeit
A2: 1 Schritt: | B2: Ablegen des untersten Drahtpaares | D2: 8 | E2: Vorschnitt | G2: 2.5 | H2: Vorschnitt | J2: 2.5 | K2: Winterschnitt | M2: 4
A3: 2. Schritt | B3: Vorschnitt durch Akkuschere | D3: 25 | E3: Schnitt durch Akkuschere | G3: 30 | H3: Nachschnitt mit der Hand | J3: 40 | K3: Laubschnitt 2X | M3: 6
A4: 3. Schritt: | B4: Ausheben durch Aushilfskraft | D4: 45 | E4: Ausheben durch Aushilfskraft | G4: 20
A5: Rebholzzerkleinerung | D5: 3 | G5: 3
A6: Biegen | D6: 15 | G6: 25 | J6: 5 | L6: Ausbessern der Anlage | M6: 5
A7: Ausbrechen 1 | D7: 22 | G7: 30 | J7: 40 | L7: Chemisch | M7: 2
A8: Aufheften 1 | D8: 15 | G8: 20 | J8: 15 | M8: 0
A9: Ausbrechen 2 | D9: 4 | G9: 12 | J9: 15 | L9: Chemisch | M9: 2
A10: Aufheften 2 | D10: 15 | G10: 15 | J10: 15 | M10: 0
A11: Summe | D11: =SUM(D2:D10) -> 152 | G11: =SUM(G2:G10) -> 157.5 | J11: =SUM(J2:J10) -> 132.5 | M11: =SUM(M2:M10) -> 19
A12: 4

Sheet Stockarbeiten
A1: Stockarbeiten in Akh/ha | B1: System aktuell | C1: Dicht-pflanzung | D1: Zweidraht-system | E1: Weitraum-anlage | F1: Minimal-schnitt | G1: M-schnitt im Spalier | H1: Kordon anlage* | I1: Vertiko-anlage
A3: Rebschnitt | B3: 78 | C3: 130 | D3: 30 | E3: 40 | F3: 4 | G3: 6 | H3: 55 | I3: 80
A4: Biegen | B4: 15 | C4: 40 | D4: 20 | E4: 10 | F4: 2 | G4: 2 | H4: 7 | I4: 5
A5: Summe: | B5: =SUM(B3:B4) -> 93 | C5: =SUM(C3:C4) -> 170 | D5: =SUM(D3:D4) -> 50 | E5: =SUM(E3:E4) -> 50 | F5: =SUM(F3:F4) -> 6 | G5: =SUM(G3:G4) -> 8 | H5: =SUM(H3:H4) -> 62 | I5: =SUM(I3:I4) -> 85
A6: * Kordonschnitt ohne maschinellen Vorschnitt um die Vergleichbarkeit zu gewährleisten

Sheet Kosten Schlepper
B1: Berechnung | C1: Kosten pro Jahr | D1: Kosten pro Stunde | E1: Fixe Kosten pro Stunde bei ___ Arbeitsstunden pro Jahr
A2: Fixe Kosten
A3: Anschaffungswert | B3: 75000 | C3: =(B3-C4)/B8 -> 6750
A4: Restwert | B4: 0.1 | C4: =B3*B4 -> 7500
A5: Zinssatz | B5: 0.05 | C5: =B3*B5 -> 3750
A6: Unterbringung | B6: 0.01 | C6: =B3*B6 -> 750
A7: Versicherung | B7: 0.005 | C7: =B3*B7 -> 375
A8: Nutzungsdauer in Jahren | B8: 10
A9: Summe Fixe Kosten | C9: =SUM(C5:C8)+C3 -> 11625 | E9: =C9/(B17+B19*B20) -> 23.25
A11: Variable Kosten | B11: pro Betriebsstunde
A12: Treibstoff | D12: 15
A13: Öl | D13: 0.4
A14: Reparatur | D14: 6.2
A16: Einsatzbedfingungen
A17: Arbeitsstunden pro Jahr | B17: 500
A18: oder | B18: Bitte nur Arbeitsstunden pro Jahr oder Arbeitsstunden pro Hektar und Fläche eingeben!
A19: Arbeitsstunden pro Hektar | B19: 0
A20: Einsatzfläche | B20: 0
A21: --> Arbeitsstunden pro Jahr | C21: =B17+B19*B20 -> 500
A23: Summe Variable Kosten pro Stunde | D23: =SUM(D12:D15) -> 21.6
A25: Arbeitskosten des Schleppers pro Stunde ohne Fahrer = Fixkosten pro Stunde zuzüglich Variabler Kosten pro Stunde:
E26: =E9+D23 -> 44.85
B30: Berechnung | C30: Kosten pro Jahr | D30: Kosten pro Stunde | E30: Kosten bei 500 Arbeitsstunden pro Jahr
A31: Fixe Kosten
A32: Anschaffungswert | B32: 120000 | C32: =B32/10*9/10 -> 10800
A33: Restwert | B33: 0.2 | C33: =B32*B33 -> 24000
A34: Zinssatz | B34: 0.05 | C34: =B32*B34 -> 6000
A35: Unterbringung | B35: 0.01 | C35: =B32*B35 -> 1200
A36: Versicherung 0,5 | B36: 0.005 | C36: =B32*B36 -> 600
A37: Nutzungsdauer in Jahren | B37: 10
A38: Summe Fixe Kosten | C38: =SUM(C34:C36)+C32 -> 18600 | E38: =C38/500 -> 37.2
A40: Variable Kosten
A41: Treibstoff | D41: 15
A42: Öl | D42: 0.4
A43: Reparatur | D43: 6.2
A45: Einsatzbedfingungen
A46: Arbeitsstunden pro Jahr | B46: 500
A47: oder | B47: Bitte nur Arbeitsstunden pro Jahr oder Arbeitsstunden pro Hektar und Fläche eingeben!
A48: Arbeitsstunden pro Hektar | B48: 0
A49: Einsatzfläche | B49: 0
A50: --> Arbeitsstunden pro Jahr | C50: =B46+B48*B49 -> 500
A52: Summe Variable Kosten pro Stunde | D52: =SUM(D41:D44) -> 21.6
A54: Arbeitskosten des Schleppers pro Stunde ohne Fahrer = Fixkosten pro Stunde zuzüglich Variabler Kosten pro Stunde:
E55: =E38+D52 -> 58.8

Sheet Kosten Vorschneider
B1: Berechnung | C1: Kosten pro Jahr | D1: Kosten pro Stunde | E1: Fixe Kosten pro Stunde bei Arbeitsstunden pro Jahr
A2: Fixe Kosten
A3: Anschaffungswert | B3: 12000 | C3: =(B3-C4)/B8 -> 1080
A4: Restwert | B4: 0.1 | C4: =B3*B4 -> 1200
A5: Zinssatz | B5: 0.05 | C5: =B3*B5 -> 600
A6: Unterbringung | B6: 0.01 | C6: =B3*B6 -> 120
A7: Versicherung | B7: 0.005 | C7: =B3*B7 -> 60
A8: Nutzungsdauer in Jahren | B8: 10
A9: Summe Fixe Kosten | C9: =SUM(C5:C8)+C3 -> 1860 | E9: =C9/(B17+B19*B20) -> 18.6
A11: Variable Kosten | B11: pro Betriebsstunde
A12: Treibstoff | D12: 0
A13: Schmierstoffe/Verschleißteile | D13: 3
A14: Reparatur | D14: 2.1
A16: Einsatzbedfingungen
A17: Arbeitsstunden pro Jahr | B17: 0
A18: oder | B18: Bitte nur Arbeitsstunden pro Jahr oder Arbeitsstunden pro Hektar und die Fläche eingeben!
A19: Arbeitsstunden pro Hektar | B19: 2.5
A20: Einsatzfläche in Hektar | B20: 40
A21: --> Arbeitsstunden pro Jahr | C21: =B17+B19*B20 -> 100
A22: Summe Variable Kosten pro Stunde | D22: =SUM(D12:D15) -> 5.1
A25: Arbeitskosten des Rebenvorschneiders pro Stunde ohne Fahrer = Fixkosten pro Stunde zuzüglich Variabler Kosten pro Stunde:
E26: =D22+E9 -> 23.7

Sheet Kosten Akkuschere
B1: Berechnung | C1: Kosten pro Jahr | D1: Kosten pro Stunde | E1: Fixe Kosten pro Stunde bei ___ Arbeitsstunden pro Jahr
A2: Fixe Kosten
A3: Anschaffungswert | B3: 1400 | C3: =(B3-C4)/B8 -> 210
A4: Restwert | B4: 0.1 | C4: =B3*B4 -> 140
A5: Zinssatz | B5: 0.05 | C5: =B3*B5 -> 70
A6: Unterbringung | B6: 0.01 | C6: =B3*B6 -> 14
A7: Versicherung | B7: 0.005 | C7: =B3*B7 -> 7
A8: Nutzungsdauer in Jahren | B8: 6
A9: Summe Fixe Kosten | C9: =SUM(C5:C8)+C3 -> 301 | E9: =C9/(B17+B19*B20) -> 1.0033333
A11: Variable Kosten | B11: pro Betriebsstunde
A12: Strom | D12: 0.35
A13: Akku | D13: 0.3
A14: Reparatur | D14: 0.5
A16: Einsatzbedfingungen
A17: Arbeitsstunden pro Jahr | B17: 0
A18: oder | B18: Bitte nur Arbeitsstunden pro Jahr oder Arbeitsstunden pro Hektar und die Fläche eingeben!
A19: Arbeitsstunden pro Hektar | B19: 30
A20: Einsatzfläche | B20: 10
A22: Summe Variable Kosten pro Stunde | D22: =SUM(D12:D15) -> 1.15
A24: Arbeitskosten der Akkuschere pro Stunde ohne Person = Fixkosten pro Stunde zuzüglich Variabler Kosten pro Stunde:
E25: =E9+D22 -> 2.1533333

Sheet Kosten Laubschneider)
A1: Laubschneider | B1: Berechnung | C1: Kosten pro Jahr | D1: Kosten pro Stunde | E1: Fixe Kosten pro Stunde bei Arbeitsstunden pro Jahr
A2: Fixe Kosten
A3: Anschaffungswert | B3: 14000 | C3: =(B3-C4)/B8 -> 1260
A4: Restwert | B4: 0.1 | C4: =B3*B4 -> 1400
A5: Zinssatz | B5: 0.05 | C5: =B3*B5 -> 700
A6: Unterbringung | B6: 0.01 | C6: =B3*B6 -> 140
A7: Versicherung | B7: 0.005 | C7: =B3*B7 -> 70
A8: Nutzungsdauer in Jahren | B8: 10
A9: Summe Fixe Kosten | C9: =SUM(C5:C8)+C3 -> 2170 | E9: =C9/(B17+B19*B20) -> 27.125
A11: Variable Kosten | B11: pro Betriebsstunde
A12: Treibstoff | D12: 0
A13: Schmierstoffe/Verschleißteile | D13: 6
A14: Reparatur | D14: 4.2
A16: Einsatzbedfingungen
A17: Arbeitsstunden pro Jahr | B17: 0
A18: oder | B18: Bitte nur Arbeitsstunden pro Jahr oder Arbeitsstunden pro Hektar und die Fläche eingeben!
A19: Arbeitsstunden pro Hektar | B19: 2
A20: Einsatzfläche in Hektar | B20: 40
A21: --> Arbeitsstunden pro Jahr | C21: =B17+B19*B20 -> 80
A22: Summe Variable Kosten pro Stunde | D22: =SUM(D12:D15) -> 10.2
A25: Arbeitskosten des Laubschneiders pro Stunde ohne Fahrer = Fixkosten pro Stunde zuzüglich Variabler Kosten pro Stunde:
E26: =D22+E9 -> 37.325

Sheet Lohnnebenkosten

Sheet Maschinenkosten KTBL
