Workbook

Sheet Kosten der Verfahren
A1: Kosten der Ertragsregulierung Chemisch Regalis Plus | B1: Annahmen für Berechnungsgrundlage | C1: Kosten pro Jahr | E1: Kosten der Ertragsregulierung Händisch beim Ausbrechen (Zusatzarbeitszeit) | F1: Annahmen für Berechnungsgrundlage | G1: Kosten pro Jahr
A2: Kosten: | E2: Kosten:
A3: Mittelkosten | C3: =Mittelkosten!L2 -> 276.84 | E3: Arbeitskosten Fachkraft | F3: =B51 -> 25 | G3: =F3*F5*F7 -> 25
A4: Wasserkosten | C4: =Mittelkosten!L6 -> 1.28 | E4: Arbeitskosten Saisonarbeitskraft | F4: =B52 -> 14.2 | G4: =F4*F6*F7 -> 511.2
A5: Arbeitskosten | B5: =B53 -> 20 | C5: =B5*B6*B7 -> 40 | E5: Arbeitszeit pro Maßnahme (Stunden) Fachkraft | F5: 1
A6: Arbeitszeit pro Maßnahme (Stunden) | B6: 2 | E6: Arbeitszeit pro Maßnahme (Stunden) Saisonarbeitskraft | F6: ='Verfahren Ertragsregulierung'!C5 -> 36
A7: Anzahl der Behandlungen | B7: 1 | E7: Anzahl der Durchgänge | F7: 1
A8: Auslastung des Schleppers | B8: 500 h/Jahr | C8: ='Kosten Schlepper'!F19*B6*B7 -> 72.8
A9: Auslastung des Pflanzenschutzgerätes | B9: 160 h/Jahr | C9: ='Kosten Pflanzenschutzgerät'!F18*B6*B7 -> 41.475
A11: Summe der Kosten | C11: =SUM(C3:C9) -> 432.395 | E11: Summe der Kosten | G11: =SUM(G3:G9) -> 536.2
A14: Kosten der Ertragsregulierung Chemisch Gibb 3 | B14: Annahmen für Berechnungsgrundlage | C14: Kosten pro Jahr | E14: Kosten der Ertragsregulierung Traubenteilen | F14: Annahmen für Berechnungsgrundlage | G14: Kosten pro Jahr
A15: Kosten: | E15: Kosten:
A16: Mittelkosten | C16: =Mittelkosten!L3 -> 120 | E16: Arbeitskosten Fachkraft | F16: =B51 -> 25 | G16: =F16*F18*F20 -> 25
A17: Wasserkosten | C17: =Mittelkosten!L6 -> 1.28 | E17: Arbeitskosten Saisonarbeitskraft | F17: =B52 -> 14.2 | G17: =F17*F19*F20 -> 1136
A18: Arbeitskosten | B18: =B53 -> 20 | C18: =B18*B19*B20 -> 40 | E18: Arbeitszeit pro Maßnahme (Stunden) Fachkraft | F18: 1
A19: Arbeitszeit pro Maßnahme (Stunden) | B19: 2 | E19: Arbeitszeit pro Maßnahme (Stunden) Saisonarbeitskraft | F19: 80
A20: Anzahl der Behandlungen | B20: 1 | E20: Anzahl der Durchgänge | F20: 1
A21: Auslastung des Schleppers | B21: 500 h/Jahr | C21: ='Kosten Schlepper'!F19*B19*B20 -> 72.8
A22: Auslastung des Pflanzenschutzgerätes | B22: 160 h/Jahr | C22: ='Kosten Pflanzenschutzgerät'!F18*B19*B20 -> 41.475
A24: Summe der Kosten | C24: =SUM(C16:C22) -> 275.555 | E24: Summe der Kosten | G24: =SUM(G16:G22) -> 1161
A26: Kosten der Ertragsregulierung Druckluftgerät | B26: Annahmen für Berechnungsgrundlage | C26: Kosten pro Jahr | E26: Kosten der Ertragsregulierung Negative Vorlese | F26: Annahmen für Berechnungsgrundlage | G26: Kosten pro Jahr
A27: Kosten: | E27: Kosten:
A28: Arbeitskosten | B28: =B53 -> 20 | C28: =B28*B29*B30 -> 80 | E28: Arbeitskosten Fachkraft | F28: =B51 -> 25 | G28: =F28*F30*F32 -> 25
A29: Arbeitszeit pro Maßnahme (Stunden) | B29: 4 | E29: Arbeitskosten Saisonarbeitskraft | F29: =B52 -> 14.2 | G29: =F29*F31*F32 -> 426
A30: Anzahl der Durchfahrten | B30: 1 | E30: Arbeitszeit pro Maßnahme (Stunden) Fachkraft | F30: 1
A31: Auslastung des Schleppers | B31: 500 h/Jahr | C31: ='Kosten Schlepper'!F41*B29*B30 -> 200.84 | E31: Arbeitszeit pro Maßnahme (Stunden) Saisonarbeitskraft | F31: ='Verfahren Ertragsregulierung'!I5 -> 30
A32: Auslastung des Luftdruckentblätterers | B32: 160 h/Jahr | C32: ='Kosten Luftdruckentblätterung'!F18*B29*B30 -> 121.7 | E32: Anzahl der Durchgänge | F32: 1
A34: Summe der Kosten | C34: =SUM(C28:C32) -> 402.54 | E34: Summe der Kosten | G34: =SUM(G28:G32) -> 451
A37: Kosten der Ertragsregulierung Traubenvollernter | B37: Annahmen für Berechnungsgrundlage | C37: Kosten pro Jahr | E37: Kosten der Ertragsregulierung Positivlese | F37: Annahmen für Berechnungsgrundlage | G37: Kosten pro Jahr
A38: Kosten: | E38: Kosten:
A39: Arbeitskosten | B39: =B51 -> 25 | C39: =B39*B40*B41 -> 50 | E39: Arbeitskosten Fachkraft | F39: =B51 -> 25 | G39: =F39*F41*F43 -> 25
A40: Arbeitszeit pro Maßnahme (Stunden) | B40: 2 | E40: Arbeitskosten Saisonarbeitskraft | F40: =B52 -> 14.2 | G40: =F40*F42*F43 -> 355
A41: Anzahl der Durchfahrten | B41: 1 | E41: Arbeitszeit pro Maßnahme (Stunden) Fachkraft | F41: 1
E42: Arbeitszeit pro Maßnahme (Stunden) Saisonarbeitskraft | F42: ='Verfahren Ertragsregulierung'!J5 -> 25
A43: Auslastung des Traubenernters | B43: 400 h/Jahr | C43: ='Kosten Traubenerntemaschine'!F19 -> 180.83333 | E43: Anzahl der Durchgänge | F43: 1
A45: Summe der Kosten | C45: =SUM(C39:C43) -> 230.83333 | E45: Summe der Kosten | G45: =SUM(G39:G43) -> 380
A49: Vorgaben für die Berechnung | B49: Felder in Matrixen werden automatisch aktualisiert | G49: Berechnungsmöglichkeiten
G50: Die orangenen Zellen werden einkopiert. Arbeitsstundenentlohnung unten auf der Seite eingeben. Fix-und Variable Maschinenkosten werden aus den Tabellenblättern Kosten Schlepper und Kosten Geräte einkopiert. In den Matrixen der Geräte können die Kosten für das einzelne Verfahren individuell berechnet werden.
A51: Arbeitskosten Fachkraft | B51: 25
A52: Arbeitsstunde Aushilfskraft | B52: 14.2
...

Sheet Verfahren Ertragsregulierung
A1: Ertragskorrektur | B1: Winter | C1: Frühjahr | D1: Frühjahr | E1: Blüte | F1: Nachblüte | G1: Kurz vor Traubenschluss | H1: Kurz vor Traubenschluss | I1: Kurz vor der Ernte | J1: Ernte
A2: Maßnahme | B2: Anschnitt | C2: Ausbrechen | D2: Frühe Ertragsregulierung | G2: Traubenkorrektur | I2: Traubenkorrektur
A3: Art | B3: extrem schwacher Anschnitt | D3: Strippen | E3: Chemische Ausdünnung | F3: Ausblasen | G3: Traubenlockerung | H3: Vollernter | I3: Negativselektion | J3: Positivselektion
B4: Hand | C4: Hand | D4: Hand | E4: Maschine | F4: Maschine | G4: händisch/Teilen | H4: Maschine | I4: Hand | J4: Handlese | K4: Maschienenlese
A5: zusätzliche Arbeitszeit für die Ertragsregulierung | B5: 0 | C5: 36 | D5: 25 | E5: 2 | F5: 4 | G5: 80 | H5: 2 | I5: 30 | J5: 25 | K5: 0

Sheet Mittelkosten
A1: Vorgesehene Behandlungen | B1: Empfohlener Wasseraufwand in Liter pro Hektar | C1: Aufwandmenge | D1: Kosten pro Einheit | E1: Mittelpreis pro Hektar (Beispielmittel) nach Basisaufwand gerechnet | L1: Summe des Pflanzenschutzes
A2: Regalis plus | B2: 400 | C2: 1.8 | D2: 153.8 | E2: =D2*C2 -> 276.84 | L2: =E2+F2+G2+H2+I2+J2+K2 -> 276.84
A3: Gibb3 | B3: 400 | C3: 16 | D3: 7.5 | E3: =D3*C3 -> 120 | L3: =E3+F3+G3+H3+I3+J3+K3 -> 120
A4: Berelex 40SG | B4: 400 | C4: 0.05 | D4: 2650 | E4: =D4*C4 -> 132.5 | L4: =E4+F4+G4+H4+I4+J4+K4 -> 132.5
A6: Wasserverbrauch minimal/ha | B6: 400 | C6: 3.2 | L6: =C6/1000*B6 -> 1.28
A8: Quelle: Ermittelte Durchschnittspreise incl MwSt. ohne Rabatte für das Jahr 2023

Sheet Kosten Schlepper
B1: Berechnung | C1: Kosten pro Jahr | D1: Kosten pro Stunde | E1: Fixe Kosten pro Stunde bei 200 Arbeitsstunden pro Jahr | F1: Kosten bei 500 Arbeitsstunden pro Jahr
A2: Fixe Kosten
A3: Anschaffungswert | B3: 75000 | C3: =B3/10*9/10 -> 6750
A4: Zinssatz | B4: 0.05 | C4: =B3*B4 -> 3750
A5: Unterbringung | B5: 0.01 | C5: =B3*B5 -> 750
A6: Versicherung 0,5 | B6: 0.005 | C6: =B3*B6 -> 375
A7: Restwert | B7: 0.1 | C7: =B3*B7 -> 7500
A8: Nutzungsdauer | B8: 10 Jahre
A9: Summe Fixe Kosten | C9: =SUM(C3:C6) -> 11625 | E9: =C9/200 -> 58.125 | F9: =C9/500 -> 23.25
A11: Variable Kosten
A12: Treibstoff | D12: 8.5
A13: Öl | D13: 0.4
A14: Reparatur | D14: 4.25
A16: Summe Variable Kosten pro Stunde | D16: =SUM(D12:D15) -> 13.15
A18: Arbeitskosten des Schleppers pro Stunde ohne Fahrer = Fixkosten pro Stunde zuzüglich Variabler Kosten pro Stunde:
E19: =E9+D16 -> 71.275 | F19: =F9+D16 -> 36.4
B23: Berechnung | C23: Kosten pro Jahr | D23: Kosten pro Stunde | E23: Fixe Kosten pro Stunde bei 200 Arbeitsstunden pro Jahr | F23: Kosten bei 500 Arbeitsstunden pro Jahr
A24: Fixe Kosten
A25: Anschaffungswert | B25: 115000 | C25: =B25/10*9/10 -> 10350
A26: Zinssatz | B26: 0.05 | C26: =B25*B26 -> 5750
A27: Unterbringung | B27: 0.01 | C27: =B25*B27 -> 1150
A28: Versicherung 0,5 | B28: 0.005 | C28: =B25*B28 -> 575
A29: Restwert | B29: 0.2 | C29: =B25*B29 -> 23000
A30: Nutzungsdauer | B30: 10 Jahre
A31: Summe Fixe Kosten | C31: =SUM(C25:C28) -> 17825 | E31: =C31/200 -> 89.125 | F31: =C31/500 -> 35.65
A33: Variable Kosten
A34: Treibstoff | D34: 8.5
A35: Öl | D35: 0.2
A36: Reparatur | D36: 5.86
A38: Summe Variable Kosten pro Stunde | D38: =SUM(D34:D37) -> 14.56
A40: Arbeitskosten des Schleppers pro Stunde ohne Fahrer = Fixkosten pro Stunde zuzüglich Variabler Kosten pro Stunde:
E41: =E31+D38 -> 103.685 | F41: =F31+D38 -> 50.21

Sheet Kosten Luftdruckentblätterung
B1: Berechnung | C1: Kosten pro Jahr | D1: Kosten pro Stunde | E1: Fixe Kosten pro Stunde bei 80 Arbeitsstunden pro Jahr | F1: Fixe Kosten pro Stunde bei 160 Arbeitsstunden pro Jahr
A2: Fixe Kosten
A3: Anschaffungswert | B3: 28000 | C3: =B3/10*9/10 -> 2520
A4: Zinssatz | B4: 0.05 | C4: =B3*B4 -> 1400
A5: Unterbringung | B5: 0.01 | C5: =B3*B5 -> 280
A6: Versicherung 0,5 | B6: 0.005 | C6: =B3*B6 -> 140
A7: Restwert | B7: 0.1
A8: Nutzungsdauer | B8: 10 Jahre
A9: Summe Fixe Kosten | C9: =SUM(C3:C8) -> 4340 | E9: =C9/80 -> 54.25 | F9: =C9/160 -> 27.125
A11: Variable Kosten
A12: Schmierstoffe | D12: 0.05
A13: Reparatur | D13: 3.25
A15: Summe Variable Kosten pro Stunde | D15: =SUM(D12:D14) -> 3.3
A17: Arbeitskosten des Pflanzenschutzgerätes pro Stunde ohne Fahrer = Fixkosten pro Stunde zuzüglich Variabler Kosten pro Stunde:
E18: =E9+D15 -> 57.55 | F18: =F9+D15 -> 30.425

Sheet Kosten Traubenerntemaschine
B1: Berechnung | C1: Kosten pro Jahr | D1: Kosten pro Stunde | E1: Fixe Kosten pro Stunde bei 200 Arbeitsstunden pro Jahr | F1: Fixe Kosten pro Stunde bei 300 Arbeitsstunden pro Jahr
A2: Fixe Kosten
A3: Anschaffungswert | B3: 350000 | C3: =B3/10*9/10 -> 31500
A4: Zinssatz | B4: 0.05 | C4: =B3*B4 -> 17500
A5: Unterbringung | B5: 0.01 | C5: =B3*B5 -> 3500
A6: Versicherung 0,5 | B6: 0.005 | C6: =B3*B6 -> 1750
A7: Restwert | B7: 0.1
A8: Nutzungsdauer | B8: 10 Jahre
A9: Summe Fixe Kosten | C9: =SUM(C3:C8) -> 54250 | E9: =C9/200 -> 271.25 | F9: =C9/300 -> 180.83333
A11: Variable Kosten
A12: Treibstoff | D12: 42
A13: Öl | D13: 1
A14: Reparatur | D14: 7.8
A16: Summe Variable Kosten pro Stunde | D16: =SUM(D12:D15) -> 50.8
A18: Arbeitskosten des Traubenerntegrätes pro Stunde ohne Fahrer = Fixkosten pro Stunde zuzüglich Variabler Kosten pro Stunde:
E19: =E9+D16 -> 322.05 | F19: =F9+E16 -> 180.83333

Sheet Kosten Pflanzenschutzgerät
B1: Berechnung | C1: Kosten pro Jahr | D1: Kosten pro Stunde | E1: Fixe Kosten pro Stunde bei 80 Arbeitsstunden pro Jahr | F1: Fixe Kosten pro Stunde bei 160 Arbeitsstunden pro Jahr
A2: Fixe Kosten
A3: Anschaffungswert | B3: 18000 | C3: =B3/10*9/10 -> 1620
A4: Zinssatz | B4: 0.05 | C4: =B3*B4 -> 900
A5: Unterbringung | B5: 0.01 | C5: =B3*B5 -> 180
A6: Versicherung 0,5 | B6: 0.005 | C6: =B3*B6 -> 90
A7: Restwert | B7: 0.1
A8: Nutzungsdauer | B8: 10 Jahre
A9: Summe Fixe Kosten | C9: =SUM(C3:C8) -> 2790 | E9: =C9/80 -> 34.875 | F9: =C9/160 -> 17.4375
A11: Variable Kosten
A12: Schmierstoffe/Winterlagerung | D12: 0.05
A13: Reparatur/TüV | D13: 3.25
A15: Summe Variable Kosten pro Stunde | D15: =SUM(D12:D14) -> 3.3
A17: Arbeitskosten des Pflanzenschutzgerätes pro Stunde ohne Fahrer = Fixkosten pro Stunde zuzüglich Variabler Kosten pro Stunde:
E18: =E9+D15 -> 38.175 | F18: =F9+D15 -> 20.7375

Sheet Wegestrecken
A1: Zeilenbreite | B1: Anzahl der Zeilen | C1: Wegelänge bei | D1: Reine Fahrtzeit bei | E1: Wendezeit | F1: Summe
B2: pro Hektar | C2: unterschiedlicher | D2: 6 km/h | E2: (Pro Wendung | F2: Fahrtzeit
B3: (100 m , 50 m , 300 m Zeilenlänge) | C3: Zeilenbreite | D3: (ohne Wendezeit) | E3: 18 s)
A4: 1,50 m | B4: 67 | C4: 6670 m/ha | D4: 67 Minuten | E4: 20 Minuten | F4: 87 Minuten 107 Minuten
B5: 134 | E5: 40 Minuten | F5: 74 Minuten
B6: 22 | E6: 7 Minuten
A7: 2,00 m | B7: 50 | C7: 5000 m/ha | D7: 50 Minuten | E7: 15 Minuten | F7: 65 Minuten
B8: 100 | E8: 30 Minuten | F8: 80 Minuten
B9: 16 | E9: 5 Minuten | F9: 55 Minuten
A10: 3,00 m | B10: 34 | C10: 3330 m/ha | D10: 34 Minuten | E10: 10 Minuten | F10: 44 Minuten
B11: 68 | E11: 20 Minuten | F11: 54 Minuten
B12: 11 | E12: 4 Minuten | F12: 38 Minuten
