Workbook

Sheet 2025 Kosten der Verfahren
A1: Kostenmatrixen in der Übersicht
A2: Systemberechnung für den Rebschnitt: Anschnitt durch Fachkraft, Aushilfskraft hebt aus
A3: Standardspalieranlage Berechnungsbeispiel der Stockpflegekosten für einen Hektar (Standraum 2,00 m *1,20 m) | B3: Annahmen für Berechnungsgrundlage | C3: Kosten pro Hektar
A4: Eine Rute angeschnitten
A7: Arbeitskosten Fachkraft | B7: 25 | C7: 750
A8: Arbeitsstunde Aushilfskraft | B8: 14.2 | C8: 426
A9: Arbeitszeit Rebschnitt Fachkraft | B9: 30 | C9: <--Stunden pro ha
A10: Kosten der Akkuschere pro Stunde | B10: 2.1533333
A11: Kosten der Akkuschere pro ha | C11: 64.6
A12: Arbeitszeit Rebschnitt Aushilfskraft | B12: 30 | C12: <--Stunden pro ha
A14: Durchschnittliche Kosten der Arbeitsstunde: | C14: =(C16-C11)/(B9+B12) -> 19.6
A16: Summe der Kosten pro ha | C16: =SUM(C5:C13) -> 1240.6
A19: Systemberechnung für das Ausbessern der Pfahlanlage:
A20: Standardspalieranlage Berechnungsbeispiel für einen Hektar (Standraum 2,00 m *1,20 m) | B20: Annahmen für Berechnungsgrundlage | D20: Kosten pro Hektar
A21: Annahmen für eine 25 jährige Anlage | B21: Anzahl | C21: Einzelpreis
A22: Ankerreparatur | B22: 2 | C22: 4.5 | D22: 9
A23: Pfahlreparatur | B23: 10 | C23: 10 | D23: 100
A24: Endpfahlraperatur | B24: 2 | C24: 17 | D24: 34
A25: Nebenprodukte | B25: 2 | C25: 0.5 | D25: 1
B26: Arbeitszeit (Stunden pro ha)
A27: Kosten Schlepper | D27: 88.2
A28: Arbeitszeit Fachkraft | B28: 1.5 | D28: =B32*B28 -> 37.5
A29: Arbeitszeit Aushilfskraft | B29: 1.5 | D29: =B33*B29 -> 21.315
A30: Arbeitszeit Fuhrpark | B30: 1.5 | D30: =B34*B30 -> 30
A32: Arbeitskosten Fachkraft | B32: 25
A33: Arbeitsstunde Aushilfskraft | B33: 14.21
A34: Arbeitskosten Fukrpark | B34: 20
A35: Durchschnittliche Kosten der Arbeitsstunde: | D35: =(D27+D28+D29+D30)/(B28+B29+B30) -> 39.336667
A36: Summe der Kosten | D36: =D22+D23+D24+D25+D27+D28+D29+D30 -> 321.015
A39: Systemberechnung für das Biegen: Facharbeitskraft bindet mit Elekrobindegegerät:
A40: Standardspalieranlage Berechnungsbeispiel der Stockpflegekosten für einen Hektar (Standraum 2,00 m *1,20 m) | B40: Annahmen für Berechnungsgrundlage | C40: Kosten pro Hektar
A41: Eine Rute angeschnitten
A44: Arbeitskosten Fachkraft | B44: 25 | C44: =B44*B46 -> 306.25
A45: Arbeitsstunde Aushilfskraft | B45: 13.42 | C45: =B48*B45 -> 0
A46: Arbeitszeit Biegen Fachkraft | B46: 12.25
A47: Kosten der Akkubiegezange pro Stunde | B47: 1.6925 | C47: =B47*(B46+B48) -> 20.733125
A48: Arbeitszeit Biegen Aushilfskraft | B48: 0
A49: Materialverbrauch Biegen pro Hektar | B49: 13 | C49: =B49 -> 13
A51: Durchschnittliche Kosten der Arbeitsstunde: | C51: =(C53-C49)/(B46+B48) -> 26.6925
A53: Summe der Kosten | C53: =SUM(C42:C50) -> 339.98312
A56: Systemberechnung für das Ausbrechen durch Aushilfskräfte
A57: Kosten des Ausbrechens Stock und Stamm | B57: Annahmen für Berechnungsgrundlage | C57: Kosten pro Jahr
A58: Kosten:
A59: Arbeitskosten Fachkraft | B59: 25 | C59: =B59*B61*B63 -> 50
A60: Arbeitskosten Saisonarbeitskraft | B60: 14.2 | C60: =B60*B62*B63 -> 1022.4
A61: Arbeitszeit pro Maßnahme (Stunden) Fachkraft | B61: 1
A62: Arbeitszeit pro Maßnahme (Stunden) Saisonarbeitskraft | B62: 36
A63: Anzahl der Durchgänge | B63: 2
A64: h Schlepper | B64: 0
A65: Material pro ha | B65: 20 | C65: =B65*B63 -> 40
A67: Summe der Kosten | C67: =SUM(C59:C65) -> 1112.4
A70: Systemberechnung für das Entblättern der Traubenzone
A71: Kosten Druckluftgerät und Schlepper | B71: Annahmen für Berechnungsgrundlage | C71: Kosten pro Jahr
A72: Kosten:
A73: Arbeitskosten | B73: 20 | C73: 80
A74: Arbeitszeit pro Maßnahme (Stunden) | B74: 4
A75: Anzahl der Durchfahrten | B75: 1
A76: Auslastung des Schleppers | B76: 500 h/Jahr | C76: 142.6
A77: Auslastung des Luftdruckentblätterers | B77: 160 h/Jahr | C77: 121.7
A79: Summe der Kosten | C79: =SUM(C73:C77) -> 344.3
A81: Systemberechnung für das Heften Bewegliche Heftdrahtpaare/ Aushilfskräfte
A82: Kosten des Heftens 2 Heftdurchgänge Bewegliche Heftdrahtpaare | B82: Annahmen für Berechnungsgrundlage | C82: Kosten pro Jahr
A83: Kosten:
A84: Arbeitskosten Fachkraft | B84: 25 | C84: =B84*B86*B88 -> 50
A85: Arbeitskosten Saisonarbeitskraft | B85: 14.2 | C85: =B85*B87*B88 -> 397.6
A86: Arbeitszeit pro Maßnahme (Stunden) Fachkraft | B86: 1
A87: Arbeitszeit pro Maßnahme (Stunden) Saisonarbeitskraft | B87: 14
A88: Anzahl der Durchgänge | B88: 2
A89: h Schlepper | B89: 0
A90: Material pro ha | B90: 10 | C90: =B90 -> 10
A92: Summe der Kosten | C92: =SUM(C84:C90) -> 457.6
A95: Systemberechnung für den Laubschnitt: 2 Durchgänge Überzeilenlaubschneider ohne Anbaugerät
A96: Kosten des Laubschnittes | B96: Annahmen für Berechnungsgrundlage | C96: Kosten pro Jahr
A97: Kosten:
A98: Arbeitskosten Fachkraft | B98: 20 | C98: 80
A99: Arbeitskosten Saisonarbeitskraft | B99: 14.2 | C99: 0
A100: Arbeitszeit pro Maßnahme (Stunden) Schlepperfahrer | B100: 2
A101: Arbeitszeit pro Maßnahme (Stunden) Saisonarbeitskraft | B101: 0
A102: Anzahl der Durchgänge | B102: 2
A103: h Schlepper | B103: 4
A104: h Laubschneider | B104: 5
A105: Auslastung Laubschneider in Stunden pro Jahr | B105: 80 | C105: 78.52
A106: Auslastung des Schleppers in Stunden pro Jahr | B106: 500 | C106: 549.5
A108: Summe der Kosten | C108: 708.02
A111: Systemberechnung Bodenpflege
A112: Berechnungsbeispiel für die jährliche Bodenpflege für einen Hektar zuzüglich 2 x Scheiben in Kombination | B112: Annahmen für Berechnungsgrundlage | C112: Kosten pro Jahr
A113: Kosten:
B114: Anlage dauerbegrünt
B115: Variabler Mulcher
A116: Arbeitskosten | B116: 20 | C116: 240
A117: Reine Bodenbearbeitung: Arbeitszeit pro ha für diese Maßnahme (Stunden) | B117: 2
A118: Anzahl dieser Bodenpflegemaßnahmen | B118: 3
A119: Kombination mit Unterstockbodenbbearbeitung: Arbeitszeit pro ha für diese Maßnahme (Stunden) | B119: 3
A120: Anzahl dieser Bodenpflegemaßnahmen | B120: 2
A121: Auslastung des Schleppers in h/Jahr | B121: 500 | C121: 635.4
A122: Auslastung des Bodenpflegegerätes in h/Jahr | B122: 80 | C122: 235.56
A123: Auslastung des Scheibe | B123: 80 | C123: 196.725
A124: Kosten pro Bearbeitungsdurchgang | C124: =C125/(B118+B120) -> 261.537
A125: Summe der Kosten | C125: =C116+C121+C122+C123 -> 1307.685
A128: Systemberechnung Pflanzenschutz mittlere Intensität
...

Sheet 2025 Vollkostenrechnung
A1: Vollkostenzusammenstellung Traubenproduktion | B1: Kosten pro ha | C1: 2025 | D1: Summe | E1: Arbeitszeit pro ha Fachkraft Schlepperfahrer Aushilfskraft
A2: Rebschnitt | B2: ='2025 Kosten der Verfahren'!C16 -> 1240.6 | C2: Systemberechnung für den Rebschnitt: Fachkraft schneidet an, Aushilfskraft hebt aus | E2: 30 | G2: 30
A3: Ausbessern der Anlage | B3: ='2025 Kosten der Verfahren'!D36 -> 321.015 | C3: Systemberechnung für das Ausbrechen: Durchschnittlicher Reparatursatz: 10 Pfähle pro ha, 2 Endpfähle und 2 Anker | E3: 1.5 | G3: 1.5
A4: Biegen | B4: ='2025 Kosten der Verfahren'!C53 -> 339.98312 | C4: Systemberechnung für das Biegen: Facharbeitskraft bindet mit Elekrobindegegerät | E4: 13
A5: Ausbrechen | B5: ='2025 Kosten der Verfahren'!C67 -> 1112.4 | C5: Ausbrechen intensiv | E5: 1 | G5: 35
A6: Bodenpflege | B6: ='2025 Kosten der Verfahren'!C125 -> 1307.685 | C6: Bodenpflegfe 5 x (Kombi mit Unterstock) | E6: 12
A7: Düngung | B7: 450 | C7: Entzugsdüngung | E7: 1 | F7: 2
A8: Pflanzenschutz | B8: ='2025 Kosten der Verfahren'!C139 -> 2673.168 | C8: Mittlere Intensität | E8: 16
A9: Ertragsregulierung und Entblätterung | B9: ='2025 Kosten der Verfahren'!C79 -> 344.3 | C9: Ausblasen mit Druckluftgerät | F9: 4
A10: Heften | B10: ='2025 Kosten der Verfahren'!C92 -> 457.6 | E10: 1 | G10: 56
A11: Laubschnitt | B11: ='2025 Kosten der Verfahren'!C108 -> 708.02 | C11: 2x Solo | F11: 5
A12: Traubenernte | B12: ='2025 Kosten der Verfahren'!C151 -> 724.1 | C12: Maschinell | D12: =B12+B11+B10+B9+B8+B7+B6+B5+B4+B2 -> 9357.8561 | F12: 2
A13: Vielgefahrenversicherung | B13: 800 | C13: Für Vollerwerbsbegtreib unerlässlich | E13: 2
A14: Wiederherstellungskosten Neuanlage | B14: 1400 | C14: Pflanzung fremd vergeben, Umstrukturierungszuschüsse abgezogen
A15: Pacht | B15: 600
A16: Organisation/Beschaffung/Koordination | B16: 1000 | E16: 2
A17: Öffentliche Abgaben/Buchführung | B17: 1000 | E17: 2
A18: Sonstige Arbeiten | B18: 700 | C18: Drahtrahmenreperatur, Nachpflanzen | D18: =B18+B17+B16+B15+B14 -> 4700 | E18: 5 | G18: 5
A19: Kapitalverzinsung/Kapitalkosten?????
A20: Summe Vollkosten | D20: =D18+D12 -> 14057.856 | E20: =SUM(E2:E18) -> 86.5 | F20: =SUM(F2:F18) -> 13 | G20: =SUM(G2:G18) -> 127.5
E21: Fachkraft | F21: Schlepperfahrer | G21: Aushilfskraft
A22: Summe Arbeitszeit | G22: =E20+F20+G20 -> 227

Sheet Kilokosten
A1: Erntemenge in kg | B1: Vollkosten pro ha | C1: Vollkosten je kg
A2: 14000 | B2: ='2025 Vollkostenrechnung'!D20 -> 14057.856 | C2: =B2/A2 -> 1.0041326
A3: 13000 | B3: =B2 -> 14057.856 | C3: =B3/A3 -> 1.0813735
A4: 12000 | B4: =B2 -> 14057.856 | C4: =B4/A4 -> 1.171488
A5: 11000 | B5: =B4 -> 14057.856 | C5: =B5/A5 -> 1.2779869
A6: 10000 | B6: =B5 -> 14057.856 | C6: =B6/A6 -> 1.4057856
A7: 9000 | B7: =B6 -> 14057.856 | C7: =B7/A7 -> 1.561984
A8: 8000 | B8: =B7 -> 14057.856 | C8: =B8/A8 -> 1.757232
A9: 7000 | B9: =B8 -> 14057.856 | C9: =B9/A9 -> 2.0082652
A10: 6000 | B10: =B9 -> 14057.856 | C10: =B10/A10 -> 2.342976
